BEGIN:VCALENDAR
VERSION:2.0
PRODID:-//ABÖE e.V. - ECPv6.15.11//NONSGML v1.0//EN
CALSCALE:GREGORIAN
METHOD:PUBLISH
X-WR-CALNAME:ABÖE e.V.
X-ORIGINAL-URL:https://www.aboee.de
X-WR-CALDESC:Veranstaltungen für ABÖE e.V.
REFRESH-INTERVAL;VALUE=DURATION:PT1H
X-Robots-Tag:noindex
X-PUBLISHED-TTL:PT1H
BEGIN:VTIMEZONE
TZID:Europe/Berlin
BEGIN:DAYLIGHT
TZOFFSETFROM:+0100
TZOFFSETTO:+0200
TZNAME:CEST
DTSTART:20230326T010000
END:DAYLIGHT
BEGIN:STANDARD
TZOFFSETFROM:+0200
TZOFFSETTO:+0100
TZNAME:CET
DTSTART:20231029T010000
END:STANDARD
BEGIN:DAYLIGHT
TZOFFSETFROM:+0100
TZOFFSETTO:+0200
TZNAME:CEST
DTSTART:20240331T010000
END:DAYLIGHT
BEGIN:STANDARD
TZOFFSETFROM:+0200
TZOFFSETTO:+0100
TZNAME:CET
DTSTART:20241027T010000
END:STANDARD
BEGIN:DAYLIGHT
TZOFFSETFROM:+0100
TZOFFSETTO:+0200
TZNAME:CEST
DTSTART:20250330T010000
END:DAYLIGHT
BEGIN:STANDARD
TZOFFSETFROM:+0200
TZOFFSETTO:+0100
TZNAME:CET
DTSTART:20251026T010000
END:STANDARD
END:VTIMEZONE
BEGIN:VEVENT
DTSTART;TZID=Europe/Berlin:20240123T150000
DTEND;TZID=Europe/Berlin:20240123T180000
DTSTAMP:20260420T040051
CREATED:20231116T130401Z
LAST-MODIFIED:20231116T131912Z
UID:1615-1706022000-1706032800@www.aboee.de
SUMMARY:Projekt InGe: Workshop "Geschlechtliche Vielfalt in der Kita. Die Lernumgebung vorurteilsbewusst gestalten"
DESCRIPTION:Workshop für pädagogische Fachkräfte in der Kita
URL:https://www.aboee.de/veranstaltung/projekt-inge-workshop-geschlechtliche-vielfalt-in-der-kita-die-lernumgebung-vorurteilsbewusst-gestalten/
LOCATION:vhs Lilienthal\, Klosterstr.25\, Lilienthal\, 28865\, Deutschland
ORGANIZER;CN="Projekt InGe":MAILTO:projekt.inge@lilienthal.de
END:VEVENT
END:VCALENDAR