BEGIN:VCALENDAR
VERSION:2.0
PRODID:-//ABÖE e.V. - ECPv6.15.11//NONSGML v1.0//EN
CALSCALE:GREGORIAN
METHOD:PUBLISH
X-WR-CALNAME:ABÖE e.V.
X-ORIGINAL-URL:https://www.aboee.de
X-WR-CALDESC:Veranstaltungen für ABÖE e.V.
REFRESH-INTERVAL;VALUE=DURATION:PT1H
X-Robots-Tag:noindex
X-PUBLISHED-TTL:PT1H
BEGIN:VTIMEZONE
TZID:Europe/Berlin
BEGIN:DAYLIGHT
TZOFFSETFROM:+0100
TZOFFSETTO:+0200
TZNAME:CEST
DTSTART:20220327T010000
END:DAYLIGHT
BEGIN:STANDARD
TZOFFSETFROM:+0200
TZOFFSETTO:+0100
TZNAME:CET
DTSTART:20221030T010000
END:STANDARD
BEGIN:DAYLIGHT
TZOFFSETFROM:+0100
TZOFFSETTO:+0200
TZNAME:CEST
DTSTART:20230326T010000
END:DAYLIGHT
BEGIN:STANDARD
TZOFFSETFROM:+0200
TZOFFSETTO:+0100
TZNAME:CET
DTSTART:20231029T010000
END:STANDARD
BEGIN:DAYLIGHT
TZOFFSETFROM:+0100
TZOFFSETTO:+0200
TZNAME:CEST
DTSTART:20240331T010000
END:DAYLIGHT
BEGIN:STANDARD
TZOFFSETFROM:+0200
TZOFFSETTO:+0100
TZNAME:CET
DTSTART:20241027T010000
END:STANDARD
END:VTIMEZONE
BEGIN:VEVENT
DTSTART;TZID=Europe/Berlin:20231109T150000
DTEND;TZID=Europe/Berlin:20231109T180000
DTSTAMP:20260420T073318
CREATED:20231009T114448Z
LAST-MODIFIED:20231020T140644Z
UID:1594-1699542000-1699552800@www.aboee.de
SUMMARY:Projekt InGe: Workshop "Nachhaltigkeit kinderleicht - Wie Kitas mit kleinen Schritten große Wirkung erzielen"
DESCRIPTION:Workshop für pädagogische Fachkräfte in Kitas\nWas heißt Nachhaltigkeit in der Kita? Wie erkläre ich Nachhaltigkeit kindgerecht? Was machen wir schon und welche weiteren Ideen gibt es\, die ich den Kita-Alltag integrieren kann? Diese und weitere Fragen wollen wir in diesem Workshop klären.\nDie Lebenswelt der Kinder bietet viele Möglichkeiten gemeinsam das Thema „Nachhaltigkeit“ mit den Kindern zu bearbeiten und Kinder für einen achtsamen Umgang mit der Umwelt und ihren Ressourcen zu sensibilisieren. Dadurch erfahren die Kinder z.B. wie sich ihr eigenes Handeln auf ihre Lebenswelt auswirken kann.\nDes Weiteren werden kleine Projekte vorgestellt. Hierzu gibt es in der Kita viele Bereiche\, die geeignet sind\, um Nachhaltigkeit zu vermitteln: gemeinsames Kochen\, Müll\, Umgang mit Ressourcen z.B. Wasser\, Spielzeug\, Upcycling-Bastelideen\, …\nEigene Ideen/ Projekte der Teilnehmenden können sehr gern eingebracht werden.\nReferentinnen: Nataly Kraus\, Sozialwirtin und Regine Moll\, Biologin\nBitte melden Sie sich bis zum 26.10.2023 verbindlich an mit dem ausgefüllten und unterschriebenen InGe Anmeldebogen
URL:https://www.aboee.de/veranstaltung/projekt-inge-workshop-nachhaltigkeit-kinderleicht-wie-kitas-mit-kleinen-schritten-grosse-wirkung-erzielen/
LOCATION:vhs Lilienthal\, Klosterstr.25\, Lilienthal\, 28865\, Deutschland
CATEGORIES:InGe
ORGANIZER;CN="Projekt InGe":MAILTO:projekt.inge@lilienthal.de
END:VEVENT
BEGIN:VEVENT
DTSTART;TZID=Europe/Berlin:20231110T150000
DTEND;TZID=Europe/Berlin:20231110T183000
DTSTAMP:20260420T073318
CREATED:20230320T091315Z
LAST-MODIFIED:20230320T091634Z
UID:1452-1699628400-1699641000@www.aboee.de
SUMMARY:Projekt InBi: Kommunikation als Mittel zur Teilhabe
DESCRIPTION:Modul 6: Dialogische Haltung \nDie Qualifizierungsreihe „Kommunikation als Mittel zur Teilhabe“ für Fachkräfte in Kita und Schule findet von Mai bis Dezember 2023 statt. Das Thema Kommunikation nimmt einen zunehmenden Raum im Kontext der pädagogischen Arbeit ein. Denn gelingende Kommunikation mit Kindern\, Eltern und im Team sind für die pädagogische Praxis unabdingbar. \nDie angebotene Modulreihe beinhaltet verschiedene Schwerpunkte und wird von mehreren Referent:innen praxisnah begleitet. Dabei wird der Zugang\, das Verständnis sowie der Dialog mit unterschiedlichen Personengruppe geschult. Der Inhalt reicht von Grundlagen\, hin zu gewaltfreier Kommunikation\, von interkultureller\, diverstitätsbewusster und visualisierten Kommunikation zur dialogischen Haltung und zur Einfachen Sprache. Die erlernten Techniken und Inhalte ermöglichen es den Teilnehmenden perspektivisch sicherer im Umgang mit verschiedenen Menschen zu werden. \nEs können unter Umständen auch einzelne Module gebucht werden – Kontaktiert uns diesbezüglich gerne. Personen\, die dengesamten Workshop buchen\, haben jedoch Vorrang. \nFür die Anmeldung zur Veranstaltung nutzen Sie bitte dieses Formblatt: Anmeldung InBi
URL:https://www.aboee.de/veranstaltung/projekt-inbi-kommunikation-als-mittel-zur-teilhabe-4/
LOCATION:Geschäftsstelle Lebenshilfe Hemmor\, Am Schulzentrum 8a\, Hemmoor\, 21745\, Deutschland
CATEGORIES:InBi
ORGANIZER;CN="Projekt InBi":MAILTO:projekt.inbi@aboee.de
END:VEVENT
BEGIN:VEVENT
DTSTART;TZID=Europe/Berlin:20231111T093000
DTEND;TZID=Europe/Berlin:20231111T130000
DTSTAMP:20260420T073318
CREATED:20230320T091611Z
LAST-MODIFIED:20230320T091611Z
UID:1454-1699695000-1699707600@www.aboee.de
SUMMARY:Projekt InBi: Kommunikation als Mittel zur Teilahbe
DESCRIPTION:Modul 7: Interkulturelle Kommunikation \nDie Qualifizierungsreihe „Kommunikation als Mittel zur Teilhabe“ für Fachkräfte in Kita und Schule findet von Mai bis Dezember 2023 statt. Das Thema Kommunikation nimmt einen zunehmenden Raum im Kontext der pädagogischen Arbeit ein. Denn gelingende Kommunikation mit Kindern\, Eltern und im Team sind für die pädagogische Praxis unabdingbar. \nDie angebotene Modulreihe beinhaltet verschiedene Schwerpunkte und wird von mehreren Referent:innen praxisnah begleitet. Dabei wird der Zugang\, das Verständnis sowie der Dialog mit unterschiedlichen Personengruppe geschult. Der Inhalt reicht von Grundlagen\, hin zu gewaltfreier Kommunikation\, von interkultureller\, diverstitätsbewusster und visualisierten Kommunikation zur dialogischen Haltung und zur Einfachen Sprache. Die erlernten Techniken und Inhalte ermöglichen es den Teilnehmenden perspektivisch sicherer im Umgang mit verschiedenen Menschen zu werden. \nEs können unter Umständen auch einzelne Module gebucht werden – Kontaktiert uns diesbezüglich gerne. Personen\, die dengesamten Workshop buchen\, haben jedoch Vorrang. \nFür die Anmeldung zur Veranstaltung nutzen Sie bitte dieses Formblatt: Anmeldung InBi
URL:https://www.aboee.de/veranstaltung/projekt-inbi-kommunikation-als-mittel-zur-teilahbe/
LOCATION:Geschäftsstelle Lebenshilfe Hemmor\, Am Schulzentrum 8a\, Hemmoor\, 21745\, Deutschland
CATEGORIES:InBi
ORGANIZER;CN="Projekt InBi":MAILTO:projekt.inbi@aboee.de
END:VEVENT
BEGIN:VEVENT
DTSTART;TZID=Europe/Berlin:20231111T130000
DTEND;TZID=Europe/Berlin:20231111T163000
DTSTAMP:20260420T073318
CREATED:20230320T091856Z
LAST-MODIFIED:20230320T091856Z
UID:1456-1699707600-1699720200@www.aboee.de
SUMMARY:Projekt InBi: Kommunikation als Mittel zur Teilhabe
DESCRIPTION:Modul 8: Diversitätsbewusste Kommunikation \nDie Qualifizierungsreihe „Kommunikation als Mittel zur Teilhabe“ für Fachkräfte in Kita und Schule findet von Mai bis Dezember 2023 statt. Das Thema Kommunikation nimmt einen zunehmenden Raum im Kontext der pädagogischen Arbeit ein. Denn gelingende Kommunikation mit Kindern\, Eltern und im Team sind für die pädagogische Praxis unabdingbar. \nDie angebotene Modulreihe beinhaltet verschiedene Schwerpunkte und wird von mehreren Referent:innen praxisnah begleitet. Dabei wird der Zugang\, das Verständnis sowie der Dialog mit unterschiedlichen Personengruppe geschult. Der Inhalt reicht von Grundlagen\, hin zu gewaltfreier Kommunikation\, von interkultureller\, diverstitätsbewusster und visualisierten Kommunikation zur dialogischen Haltung und zur Einfachen Sprache. Die erlernten Techniken und Inhalte ermöglichen es den Teilnehmenden perspektivisch sicherer im Umgang mit verschiedenen Menschen zu werden. \nEs können unter Umständen auch einzelne Module gebucht werden – Kontaktiert uns diesbezüglich gerne. Personen\, die dengesamten Workshop buchen\, haben jedoch Vorrang. \nFür die Anmeldung zur Veranstaltung nutzen Sie bitte dieses Formblatt: Anmeldung InBi
URL:https://www.aboee.de/veranstaltung/projekt-inbi-kommunikation-als-mittel-zur-teilhabe-5/
LOCATION:Geschäftsstelle Lebenshilfe Hemmor\, Am Schulzentrum 8a\, Hemmoor\, 21745\, Deutschland
CATEGORIES:InBi
ORGANIZER;CN="Projekt InBi":MAILTO:projekt.inbi@aboee.de
END:VEVENT
END:VCALENDAR