BEGIN:VCALENDAR
VERSION:2.0
PRODID:-//ABÖE e.V. - ECPv6.15.11//NONSGML v1.0//EN
CALSCALE:GREGORIAN
METHOD:PUBLISH
X-ORIGINAL-URL:https://www.aboee.de
X-WR-CALDESC:Veranstaltungen für ABÖE e.V.
REFRESH-INTERVAL;VALUE=DURATION:PT1H
X-Robots-Tag:noindex
X-PUBLISHED-TTL:PT1H
BEGIN:VTIMEZONE
TZID:Europe/Berlin
BEGIN:DAYLIGHT
TZOFFSETFROM:+0100
TZOFFSETTO:+0200
TZNAME:CEST
DTSTART:20220327T010000
END:DAYLIGHT
BEGIN:STANDARD
TZOFFSETFROM:+0200
TZOFFSETTO:+0100
TZNAME:CET
DTSTART:20221030T010000
END:STANDARD
BEGIN:DAYLIGHT
TZOFFSETFROM:+0100
TZOFFSETTO:+0200
TZNAME:CEST
DTSTART:20230326T010000
END:DAYLIGHT
BEGIN:STANDARD
TZOFFSETFROM:+0200
TZOFFSETTO:+0100
TZNAME:CET
DTSTART:20231029T010000
END:STANDARD
BEGIN:DAYLIGHT
TZOFFSETFROM:+0100
TZOFFSETTO:+0200
TZNAME:CEST
DTSTART:20240331T010000
END:DAYLIGHT
BEGIN:STANDARD
TZOFFSETFROM:+0200
TZOFFSETTO:+0100
TZNAME:CET
DTSTART:20241027T010000
END:STANDARD
END:VTIMEZONE
BEGIN:VEVENT
DTSTART;TZID=Europe/Berlin:20231004T143000
DTEND;TZID=Europe/Berlin:20231004T170000
DTSTAMP:20260420T091555
CREATED:20230911T160139Z
LAST-MODIFIED:20230911T160139Z
UID:1580-1696429800-1696438800@www.aboee.de
SUMMARY:Projekt best\, digitaler zweiteiliger Workshop\, Tag 1: "Raus aus dem Hamsterrad - Resilienz im pädagogischen Alltag"\, 04.10. und 06.11.2023
DESCRIPTION:In diesem zweiteiligen\, digitalen Workshop geht es am 04.10.2023 um Grundlagen und eine Einführung in die Thematik\, was ist Salutogenese\, wie begegnet man (immer wiederkehrenden) Stress[oren]\, welche Rolle spielt die eigene Rolle\, praktische Übungen und dergleichen mehr.\n \nAm 06.11.2023 wird es darum gehen\, wie können Veränderungen bei und für sich selbst erarbeitet werden und wie kann ich „dranbleiben“\, um gesund zu bleiben? Auch hier werden viele praktische Übungen eingesetzt werden.  \nUm eine verbindliche Anmeldung bis zum 29.9.23 unter projekt.best@aboee.de wird gebeten.
URL:https://www.aboee.de/veranstaltung/projekt-best-digitaler-zweiteiliger-workshop-tag-1-raus-aus-dem-hamsterrad-resilienz-im-paedagogischen-alltag-04-10-und-06-11-2023/
LOCATION:Digitaler Workhop (EcoseroLink)\, Deutschland
CATEGORIES:best
END:VEVENT
END:VCALENDAR