BEGIN:VCALENDAR
VERSION:2.0
PRODID:-//ABÖE e.V. - ECPv6.15.11//NONSGML v1.0//EN
CALSCALE:GREGORIAN
METHOD:PUBLISH
X-ORIGINAL-URL:https://www.aboee.de
X-WR-CALDESC:Veranstaltungen für ABÖE e.V.
REFRESH-INTERVAL;VALUE=DURATION:PT1H
X-Robots-Tag:noindex
X-PUBLISHED-TTL:PT1H
BEGIN:VTIMEZONE
TZID:Europe/Berlin
BEGIN:DAYLIGHT
TZOFFSETFROM:+0100
TZOFFSETTO:+0200
TZNAME:CEST
DTSTART:20220327T010000
END:DAYLIGHT
BEGIN:STANDARD
TZOFFSETFROM:+0200
TZOFFSETTO:+0100
TZNAME:CET
DTSTART:20221030T010000
END:STANDARD
BEGIN:DAYLIGHT
TZOFFSETFROM:+0100
TZOFFSETTO:+0200
TZNAME:CEST
DTSTART:20230326T010000
END:DAYLIGHT
BEGIN:STANDARD
TZOFFSETFROM:+0200
TZOFFSETTO:+0100
TZNAME:CET
DTSTART:20231029T010000
END:STANDARD
BEGIN:DAYLIGHT
TZOFFSETFROM:+0100
TZOFFSETTO:+0200
TZNAME:CEST
DTSTART:20240331T010000
END:DAYLIGHT
BEGIN:STANDARD
TZOFFSETFROM:+0200
TZOFFSETTO:+0100
TZNAME:CET
DTSTART:20241027T010000
END:STANDARD
END:VTIMEZONE
BEGIN:VEVENT
DTSTART;TZID=Europe/Berlin:20230418T150000
DTEND;TZID=Europe/Berlin:20230418T180000
DTSTAMP:20260422T235105
CREATED:20230214T121743Z
LAST-MODIFIED:20230214T122234Z
UID:1372-1681830000-1681840800@www.aboee.de
SUMMARY:Projekt InGe: Workshop "Kinder in Balance bringen - über Bewegung aus dem Stress kommen"
DESCRIPTION:Workshop für pädagogische Fachkräfte in Kita und Krippe.\nViele Kindergartenkinder leiden heute unter Stress und/oder mangelnder Bewegung. Die Gründe sind vielfältig und nicht alle neu. In der letzten Zeit kommen jedoch noch weitere Stressoren und Ängste hinzu: unverhältnismäßig hoher Medienkonsum (Corona bedingter Anstieg)\, Stress und finanzielle Sorgen in den Familien\, angstmachende Äußerungen der Erwachsenen und in den Nachrichten zur geopolitischen Lage oder der Klimakrise und anderes mehr.\nInsbesondere mit Übungen aus dem Brain Gym®\, der Klopfakupressur und dem Touch for Health können schon Kinder lernen sich selbstwirksam zu unterstützen und energetisch auszubalancieren. Hilfe zur Selbsthilfe ist das Ziel.\nIn dem Workshop werden ausgewählte Übungen den pädagogischen Fachkräften theoretisch und praktisch vermittelt\, so dass sie sofort in der Praxis eingesetzt werden können. Das bewegte Lernen kann dazu führen\, dass Kinder ruhiger\, zuversichtlicher und zentrierter werden und sie rücksichtsvoller miteinander umgehen. Anleitungen zur passiven Arbeit mit Krippenkindern sind ebenfalls Bestandteil des Workshops. Alle Übungen sind kurzweilig\, auch für Erwachsene ein Gewinn und somit auch ein Beitrag zur Bewegung und Stressreduktion der Kita- Mitarbeiter:innen.\nReferentin: Marina Feldmann\, Diplom-Pädagogin\, Kinesiologin BK DGAK.\nBitte melden Sie sich bis zum 28.3.2023 verbindlich an mit dem ausgefüllten und unterschriebenen InGe Anmeldebogen
URL:https://www.aboee.de/veranstaltung/projekt-inge-workshop-kinder-in-balance-bringen-ueber-bewegung-aus-dem-stress-kommen/
LOCATION:Alte Schule Falkenberg\, Falkenberger Landstraße 67\, 28865 Lilienthal\, 28865\, Deutschland
CATEGORIES:InGe
ORGANIZER;CN="Projekt InGe":MAILTO:projekt.inge@lilienthal.de
END:VEVENT
BEGIN:VEVENT
DTSTART;TZID=Europe/Berlin:20230424T150000
DTEND;TZID=Europe/Berlin:20230424T170000
DTSTAMP:20260422T235105
CREATED:20230314T110331Z
LAST-MODIFIED:20230314T110804Z
UID:1414-1682348400-1682355600@www.aboee.de
SUMMARY:Montagshäppchen (zweiteilig): „Elterngespräche wertschätzend und souverän führen“
DESCRIPTION:Egal ob Krippe\, Kita\, Hort oder Schule – die Beratung und Begleitung von Eltern ist ein wichtiger Teil der pädagogischen Arbeit. Manchmal spontan\, manchmal mit Vorbereitung – die Gespräche laufen nicht immer so\, wie man es sich vorgestellt hat. Obwohl alle das Kind im Blick haben\, bleibt man manchmal ratlos zurück. \nInes Koenen legt in dem zweiteiligen Workshop einen Fokus auf die Vermittlung von Gesprächsechniken\, um Elterngesprächen angemessen zu begegnen. Außerdem wird der Umgang mit schwierigen Gesprächssituationen trainiert und anhand von (gerne auch eigenen) Beispielen besprochen. So werden durch die gegebenen Hinweise die unterschiedlichen Herausforderungen im Umgang mit Eltern dargestellt und geschult. \nFür die Anmeldung zur Veranstaltung nutzen Sie bitte dieses Formblatt: Anmeldung InBi
URL:https://www.aboee.de/veranstaltung/montagshaeppchen-zweiteilig-elterngespraeche-wertschaetzend-und-souveraen-fuehren/
LOCATION:online-VA über ecosero (browserbasiert)
CATEGORIES:InBi
ORGANIZER;CN="Projekt InBi":MAILTO:projekt.inbi@aboee.de
END:VEVENT
END:VCALENDAR