BEGIN:VCALENDAR
VERSION:2.0
PRODID:-//ABÖE e.V. - ECPv6.15.11//NONSGML v1.0//EN
CALSCALE:GREGORIAN
METHOD:PUBLISH
X-ORIGINAL-URL:https://www.aboee.de
X-WR-CALDESC:Veranstaltungen für ABÖE e.V.
REFRESH-INTERVAL;VALUE=DURATION:PT1H
X-Robots-Tag:noindex
X-PUBLISHED-TTL:PT1H
BEGIN:VTIMEZONE
TZID:Europe/Berlin
BEGIN:DAYLIGHT
TZOFFSETFROM:+0100
TZOFFSETTO:+0200
TZNAME:CEST
DTSTART:20210328T010000
END:DAYLIGHT
BEGIN:STANDARD
TZOFFSETFROM:+0200
TZOFFSETTO:+0100
TZNAME:CET
DTSTART:20211031T010000
END:STANDARD
BEGIN:DAYLIGHT
TZOFFSETFROM:+0100
TZOFFSETTO:+0200
TZNAME:CEST
DTSTART:20220327T010000
END:DAYLIGHT
BEGIN:STANDARD
TZOFFSETFROM:+0200
TZOFFSETTO:+0100
TZNAME:CET
DTSTART:20221030T010000
END:STANDARD
BEGIN:DAYLIGHT
TZOFFSETFROM:+0100
TZOFFSETTO:+0200
TZNAME:CEST
DTSTART:20230326T010000
END:DAYLIGHT
BEGIN:STANDARD
TZOFFSETFROM:+0200
TZOFFSETTO:+0100
TZNAME:CET
DTSTART:20231029T010000
END:STANDARD
END:VTIMEZONE
BEGIN:VEVENT
DTSTART;TZID=Europe/Berlin:20220608T150000
DTEND;TZID=Europe/Berlin:20220608T180000
DTSTAMP:20260423T164120
CREATED:20220421T104556Z
LAST-MODIFIED:20220421T104556Z
UID:1212-1654700400-1654711200@www.aboee.de
SUMMARY:Projekt InGe: Workshop: Männer in Kitas - Besondere Herausforderungen für männliche pädagogische Fachkräfte
DESCRIPTION:Workshop für männliche pädagogische Fachkräfte.\nAuf der einen Seite sind alle glücklich\, dass es endlich auch männliche Fachkräfte in den Kitas gibt\, auf der anderen Seite gibt es jedoch auch Bedenken seitens der Eltern und auch der Fachkräfte selbst.\nWer übernimmt welche Aufgaben\, wenn plötzlich ein Mann im Team ist? Welche Zuschreibungen erfolgen seitens der Kolleginnen? Wie geht die Einrichtung mit den Sorgen von Eltern um\, wenn es zum Beispiel um das Wickeln im Krippenbereich geht? Welche Schwierigkeiten können sich ergeben\, wenn nur ein Mann im Frauenteam vertreten ist? In diesem Workshop sollen männliche Fachkräfte die Möglichkeit erhalten\, sich darüber auszutauschen\, wie sie mit den Erwartungen und Ansprüchen umgehen\, welche Herausforderungen sie bewältigen müssen und wie ein kollegialer Austausch dabei unterstützen kann. Der Workshop ist praxisorientiert ausgerichtet. Gerne können eigene Beispiele aus der Kita-Praxis eingebracht werden.\nReferent: Klaus Henner Spierling\, Dipl.-Psychologe\, Systemischer Therapeut und Berater
URL:https://www.aboee.de/veranstaltung/projekt-inge-workshop-maenner-in-kitas-besondere-herausforderungen-fuer-maennliche-paedagogische-fachkraefte/
LOCATION:vhs Lilienthal\, Klosterstr.25\, Lilienthal\, 28865\, Deutschland
CATEGORIES:InGe,Kita
ORGANIZER;CN="Projekt InGe":MAILTO:projekt.inge@lilienthal.de
END:VEVENT
END:VCALENDAR