BEGIN:VCALENDAR
VERSION:2.0
PRODID:-//ABÖE e.V. - ECPv6.15.11//NONSGML v1.0//EN
CALSCALE:GREGORIAN
METHOD:PUBLISH
X-ORIGINAL-URL:https://www.aboee.de
X-WR-CALDESC:Veranstaltungen für ABÖE e.V.
REFRESH-INTERVAL;VALUE=DURATION:PT1H
X-Robots-Tag:noindex
X-PUBLISHED-TTL:PT1H
BEGIN:VTIMEZONE
TZID:Europe/Berlin
BEGIN:DAYLIGHT
TZOFFSETFROM:+0100
TZOFFSETTO:+0200
TZNAME:CEST
DTSTART:20240331T010000
END:DAYLIGHT
BEGIN:STANDARD
TZOFFSETFROM:+0200
TZOFFSETTO:+0100
TZNAME:CET
DTSTART:20241027T010000
END:STANDARD
BEGIN:DAYLIGHT
TZOFFSETFROM:+0100
TZOFFSETTO:+0200
TZNAME:CEST
DTSTART:20250330T010000
END:DAYLIGHT
BEGIN:STANDARD
TZOFFSETFROM:+0200
TZOFFSETTO:+0100
TZNAME:CET
DTSTART:20251026T010000
END:STANDARD
BEGIN:DAYLIGHT
TZOFFSETFROM:+0100
TZOFFSETTO:+0200
TZNAME:CEST
DTSTART:20260329T010000
END:DAYLIGHT
BEGIN:STANDARD
TZOFFSETFROM:+0200
TZOFFSETTO:+0100
TZNAME:CET
DTSTART:20261025T010000
END:STANDARD
END:VTIMEZONE
BEGIN:VEVENT
DTSTART;TZID=Europe/Berlin:20250604T150000
DTEND;TZID=Europe/Berlin:20250604T180000
DTSTAMP:20260419T234252
CREATED:20250228T102923Z
LAST-MODIFIED:20250228T102923Z
UID:1775-1749049200-1749060000@www.aboee.de
SUMMARY:best II: Warum Vielfalt als Haltung?
DESCRIPTION:Grundlagen Diversität und Vielfalt (die Vielfalt an Unterschiedlichkeit von Menschen anzuerkennen\, bzw. die Gleichwertigkeit von Verschiedenheit und Andersartigkeit als ganzheitliche Haltung)\nEinfluss eigener Normalitätsvorstellungen und Vorurteile sowie Stereotype\nAufzeigen von Möglichkeiten der diversitätsbewussten Kommunikation (gezielte Auseinandersetzung und Sensibilisierung)\n\n  \nZiel: eigene Sensibilisierung\, Vermeidung von Diskriminierung\, Steigerung der Chancengleichheit und Teilhabegerechtigkeit \nAnmeldeschluss: 28.05.2025
URL:https://www.aboee.de/veranstaltung/best-ii-warum-vielfalt-als-haltung/
LOCATION:Rathaus Schwanewede\, Damm 4\, Schwanewede\, Niedersachsen\, 28790
CATEGORIES:best
END:VEVENT
BEGIN:VEVENT
DTSTART;TZID=Europe/Berlin:20250618T150000
DTEND;TZID=Europe/Berlin:20250618T180000
DTSTAMP:20260419T234252
CREATED:20250228T103122Z
LAST-MODIFIED:20250228T103122Z
UID:1777-1750258800-1750269600@www.aboee.de
SUMMARY:best II: Einfache Sprache - schnelle Teilhabe
DESCRIPTION:Grundlagen der Einfachen bzw. vereinfachten Sprache: Definition sowie Bedeutung und Nutzen\nInformationen einfach und verständlich formulieren: Kommunizieren mit verschiedenen Gruppen (Kindern\, Eltern\, Mitarbeitende)\n\n  \nZiel: Einander leicht verstehen\, eindeutige Aussagen vermitteln\, ohne Ironie\, Metaphern oder Synonyme oder Fremdwörter\, Verständnis / Verstehen fördern. \n  \nAnmeldeschluss: 11.06.2025
URL:https://www.aboee.de/veranstaltung/best-ii-einfache-sprache-schnelle-teilhabe/
LOCATION:Rathaus Schwanewede\, Damm 4\, Schwanewede\, Niedersachsen\, 28790
CATEGORIES:best
END:VEVENT
END:VCALENDAR