BEGIN:VCALENDAR
VERSION:2.0
PRODID:-//ABÖE e.V. - ECPv6.15.11//NONSGML v1.0//EN
CALSCALE:GREGORIAN
METHOD:PUBLISH
X-ORIGINAL-URL:https://www.aboee.de
X-WR-CALDESC:Veranstaltungen für ABÖE e.V.
REFRESH-INTERVAL;VALUE=DURATION:PT1H
X-Robots-Tag:noindex
X-PUBLISHED-TTL:PT1H
BEGIN:VTIMEZONE
TZID:Europe/Berlin
BEGIN:DAYLIGHT
TZOFFSETFROM:+0100
TZOFFSETTO:+0200
TZNAME:CEST
DTSTART:20210328T010000
END:DAYLIGHT
BEGIN:STANDARD
TZOFFSETFROM:+0200
TZOFFSETTO:+0100
TZNAME:CET
DTSTART:20211031T010000
END:STANDARD
BEGIN:DAYLIGHT
TZOFFSETFROM:+0100
TZOFFSETTO:+0200
TZNAME:CEST
DTSTART:20220327T010000
END:DAYLIGHT
BEGIN:STANDARD
TZOFFSETFROM:+0200
TZOFFSETTO:+0100
TZNAME:CET
DTSTART:20221030T010000
END:STANDARD
BEGIN:DAYLIGHT
TZOFFSETFROM:+0100
TZOFFSETTO:+0200
TZNAME:CEST
DTSTART:20230326T010000
END:DAYLIGHT
BEGIN:STANDARD
TZOFFSETFROM:+0200
TZOFFSETTO:+0100
TZNAME:CET
DTSTART:20231029T010000
END:STANDARD
END:VTIMEZONE
BEGIN:VEVENT
DTSTART;TZID=Europe/Berlin:20220317T160000
DTEND;TZID=Europe/Berlin:20220317T180000
DTSTAMP:20260424T153454
CREATED:20220131T092511Z
LAST-MODIFIED:20220222T084517Z
UID:1175-1647532800-1647540000@www.aboee.de
SUMMARY:LINES VI: "Mitgestalten\, aber wie? Modelle der theaterpädagogischen Partizipation"
DESCRIPTION:Wie kann durch methodische und/oder didaktische Veränderungen mehr Teilhabe erreicht werden? \nDie Online-Seminarreihe stellt drei Modelle und die damit verbundenen Methoden aus der theaterpädagogischen Arbeit vor\, die eine (künstlerische) Partizipation der Teilnehmenden\, wie auch der ganzen Gruppe erleichtert\, den sozialen Zusammenhalt stärkt und dadurch zu neuen Ergebnissen führt. Die Methoden können mit in die eigene pädagogische Arbeit eingebracht werden. (Grund-und Oberschule\, offene Jugendarbeit\, pädagogische Gruppenangebote\, u.ä. mehr). Die Module sind sowohl einzeln als auch insgesamt buchbar. \n  \nEine verbindliche Anmeldung unter Anmeldung für den Workshop LINES ist erforderlich. Bitte senden Sie uns unter projekt.lines@aboee.de Ihre unterschriebene Anmeldung bis 1 Woche vor dem Workshop zu. Sie erhalten anschließend eine Information\, ob noch ausreichend Plätze vorhanden sind; andernfalls können Sie sich auf eine Warteliste setzen lassen. \n  \n  \n 
URL:https://www.aboee.de/veranstaltung/lines-vi-mitgestalten-aber-wie-modelle-der-theaterpaedagogischen-partizipation/
LOCATION:online-VA über ecosero (browserbasiert)
CATEGORIES:LINES
END:VEVENT
END:VCALENDAR