BEGIN:VCALENDAR
VERSION:2.0
PRODID:-//ABÖE e.V. - ECPv6.15.11//NONSGML v1.0//EN
CALSCALE:GREGORIAN
METHOD:PUBLISH
X-WR-CALNAME:ABÖE e.V.
X-ORIGINAL-URL:https://www.aboee.de
X-WR-CALDESC:Veranstaltungen für ABÖE e.V.
REFRESH-INTERVAL;VALUE=DURATION:PT1H
X-Robots-Tag:noindex
X-PUBLISHED-TTL:PT1H
BEGIN:VTIMEZONE
TZID:Europe/Berlin
BEGIN:DAYLIGHT
TZOFFSETFROM:+0100
TZOFFSETTO:+0200
TZNAME:CEST
DTSTART:20200329T010000
END:DAYLIGHT
BEGIN:STANDARD
TZOFFSETFROM:+0200
TZOFFSETTO:+0100
TZNAME:CET
DTSTART:20201025T010000
END:STANDARD
BEGIN:DAYLIGHT
TZOFFSETFROM:+0100
TZOFFSETTO:+0200
TZNAME:CEST
DTSTART:20210328T010000
END:DAYLIGHT
BEGIN:STANDARD
TZOFFSETFROM:+0200
TZOFFSETTO:+0100
TZNAME:CET
DTSTART:20211031T010000
END:STANDARD
BEGIN:DAYLIGHT
TZOFFSETFROM:+0100
TZOFFSETTO:+0200
TZNAME:CEST
DTSTART:20220327T010000
END:DAYLIGHT
BEGIN:STANDARD
TZOFFSETFROM:+0200
TZOFFSETTO:+0100
TZNAME:CET
DTSTART:20221030T010000
END:STANDARD
END:VTIMEZONE
BEGIN:VEVENT
DTSTART;TZID=Europe/Berlin:20211102T190000
DTEND;TZID=Europe/Berlin:20211102T210000
DTSTAMP:20260423T062402
CREATED:20210929T154034Z
LAST-MODIFIED:20210929T154341Z
UID:1129-1635879600-1635886800@www.aboee.de
SUMMARY:Projekt LINES:"Mathe ist überall" (Campus Filmabend)
DESCRIPTION:Sie kommt uns entgegen\, die Mathematik\, in den Mustern der Natur\, in der planvollen Regelung des Alltags\, beim Nachdenken über Ordnungen. Kinder tun sie\, ihre frühe Mathematik. Der Film beobachtet sie beim Ausloten von Räumen\, beim Messen von Kräften\, beim Entdecken mathematischer Wörter\, mit denen sie zu einer faszinierenden Ordnung vordringen. Brücken zu bauen in ein Denken\, das abstrakten Aufgaben nicht ausweicht\, ist Aufgabe der Schule. \nDer Film zeigt Kinder\, die mit ihren Lehrerinnen und Lehrern zum konzentriertem »Mathematisieren« gefunden haben. Sich dem kindlichen Denken öffnen: das müssen auch Eltern immer wieder üben. Die Schule kann den Familien Anregungen geben\, Aufgaben mit offenem Ausgang oder mit einer praktischen Erkenntnis. Mathematik ist mehr als nur ein Schulfach. \n  \nAnmeldungen und Info:\nAnnette Otto\, Tel. 0 47 91 / 96 23 25\,\nao@vhs-osterholz-scharmbeck.de oder:\nSilke Berthold\, Tel. 0 47 91 / 930 – 2575\,\nsilke.berthold@landkreis-osterholz.de
URL:https://www.aboee.de/veranstaltung/projekt-linesmathe-ist-ueberall/
LOCATION:Medienhaus am Campus\, Am Barkhof 10 a\, Osterholz-Scharmbeck\, 27721
CATEGORIES:LINES
END:VEVENT
END:VCALENDAR