BEGIN:VCALENDAR
VERSION:2.0
PRODID:-//ABÖE e.V. - ECPv6.15.11//NONSGML v1.0//EN
CALSCALE:GREGORIAN
METHOD:PUBLISH
X-WR-CALNAME:ABÖE e.V.
X-ORIGINAL-URL:https://www.aboee.de
X-WR-CALDESC:Veranstaltungen für ABÖE e.V.
REFRESH-INTERVAL;VALUE=DURATION:PT1H
X-Robots-Tag:noindex
X-PUBLISHED-TTL:PT1H
BEGIN:VTIMEZONE
TZID:Europe/Berlin
BEGIN:DAYLIGHT
TZOFFSETFROM:+0100
TZOFFSETTO:+0200
TZNAME:CEST
DTSTART:20210328T010000
END:DAYLIGHT
BEGIN:STANDARD
TZOFFSETFROM:+0200
TZOFFSETTO:+0100
TZNAME:CET
DTSTART:20211031T010000
END:STANDARD
BEGIN:DAYLIGHT
TZOFFSETFROM:+0100
TZOFFSETTO:+0200
TZNAME:CEST
DTSTART:20220327T010000
END:DAYLIGHT
BEGIN:STANDARD
TZOFFSETFROM:+0200
TZOFFSETTO:+0100
TZNAME:CET
DTSTART:20221030T010000
END:STANDARD
BEGIN:DAYLIGHT
TZOFFSETFROM:+0100
TZOFFSETTO:+0200
TZNAME:CEST
DTSTART:20230326T010000
END:DAYLIGHT
BEGIN:STANDARD
TZOFFSETFROM:+0200
TZOFFSETTO:+0100
TZNAME:CET
DTSTART:20231029T010000
END:STANDARD
END:VTIMEZONE
BEGIN:VEVENT
DTSTART;TZID=Europe/Berlin:20220514T100000
DTEND;TZID=Europe/Berlin:20220514T150000
DTSTAMP:20260423T195604
CREATED:20220217T112538Z
LAST-MODIFIED:20220217T112757Z
UID:1199-1652522400-1652540400@www.aboee.de
SUMMARY:Projekt InBi: Workshop: Gebärden im (pädagogischen) Alltag nutzen
DESCRIPTION:Dieser Workshop zeigt einen abwechslungsreichen Einstieg in das Thema Gebärden als unterstützendes Element in der Kommunikation mit Kindern. Lernen Sie\, wie Sie Gebärden direkt in Ihren pädagogischen Alltag aufnehmen können. Neben den wichtigsten Grundgebärden für tägliche Abläufe (tägliche Abläufe\, Singen\, gemeinsam Bücher lesen\, Umgang miteinander) werden theoretische Grundlagen zur frühen Sprachbildung erarbeitet. Alle Gebärden entstammen der Deutschen Gebärdensprache und können mit ein- und mehrsprachigen Kindern in Krippe und Kita für eine frühe gute Verständigung genutzt werden. \nDieser Workshop wird von Tina de Boer angeleitet und bietet sich als Fortführung unserer digitalen Veranstaltung am 16.03.2022\, kann aber selbstverständlich auch so besucht werden. \nFür die Teilnahme an der Veranstaltungen senden Sie uns bitte folgendes Formular zu: Anmeldung InBi
URL:https://www.aboee.de/veranstaltung/projekt-inbi-workshop-gebaerden-im-paedagogischen-alltag-nutzen/
LOCATION:Ohldorpsweg 1c\, 27607 Geestland\, Ohldorpsweg 1c\, Geestland\, 27607\, Deutschland
CATEGORIES:InBi
ORGANIZER;CN="Projekt InBi":MAILTO:projekt.inbi@aboee.de
END:VEVENT
END:VCALENDAR