BEGIN:VCALENDAR
VERSION:2.0
PRODID:-//ABÖE e.V. - ECPv6.15.11//NONSGML v1.0//EN
CALSCALE:GREGORIAN
METHOD:PUBLISH
X-ORIGINAL-URL:https://www.aboee.de
X-WR-CALDESC:Veranstaltungen für ABÖE e.V.
REFRESH-INTERVAL;VALUE=DURATION:PT1H
X-Robots-Tag:noindex
X-PUBLISHED-TTL:PT1H
BEGIN:VTIMEZONE
TZID:Europe/Berlin
BEGIN:DAYLIGHT
TZOFFSETFROM:+0100
TZOFFSETTO:+0200
TZNAME:CEST
DTSTART:20210328T010000
END:DAYLIGHT
BEGIN:STANDARD
TZOFFSETFROM:+0200
TZOFFSETTO:+0100
TZNAME:CET
DTSTART:20211031T010000
END:STANDARD
BEGIN:DAYLIGHT
TZOFFSETFROM:+0100
TZOFFSETTO:+0200
TZNAME:CEST
DTSTART:20220327T010000
END:DAYLIGHT
BEGIN:STANDARD
TZOFFSETFROM:+0200
TZOFFSETTO:+0100
TZNAME:CET
DTSTART:20221030T010000
END:STANDARD
BEGIN:DAYLIGHT
TZOFFSETFROM:+0100
TZOFFSETTO:+0200
TZNAME:CEST
DTSTART:20230326T010000
END:DAYLIGHT
BEGIN:STANDARD
TZOFFSETFROM:+0200
TZOFFSETTO:+0100
TZNAME:CET
DTSTART:20231029T010000
END:STANDARD
END:VTIMEZONE
BEGIN:VEVENT
DTSTART;TZID=Europe/Berlin:20220316T150000
DTEND;TZID=Europe/Berlin:20220316T170000
DTSTAMP:20260423T225644
CREATED:20220217T110841Z
LAST-MODIFIED:20220217T110913Z
UID:1192-1647442800-1647450000@www.aboee.de
SUMMARY:Projekt InBi: Mittwochshäppchen: Einführung in die Gebärdensprache
DESCRIPTION:Gebärden unterstützen das menschliche Bedürfnis sich mitzuteilen und können helfen in die gesprochene Sprache hinein zu wachsen. Gebärden sind ein wertvolles Hilfsmittel für alle pädagogischen Fachkräfte. Im Workshop begleitet Sie Tina de Boer beim Einstieg in die Arbeit mit Gebärden als unterstützendes Element in der Kommunikation. \nFür die Teilnahme an der Veranstaltung senden Sie uns bitte folgendes Dokument zu: Anmeldung InBi
URL:https://www.aboee.de/veranstaltung/projekt-inbi-mittwochshaeppchen-einfuehrung-in-die-gebaerdensprache/
LOCATION:online-VA über ecosero (browserbasiert)
CATEGORIES:InBi
ORGANIZER;CN="Projekt InBi":MAILTO:projekt.inbi@aboee.de
END:VEVENT
END:VCALENDAR