BEGIN:VCALENDAR
VERSION:2.0
PRODID:-//ABÖE e.V. - ECPv6.15.11//NONSGML v1.0//EN
CALSCALE:GREGORIAN
METHOD:PUBLISH
X-ORIGINAL-URL:https://www.aboee.de
X-WR-CALDESC:Veranstaltungen für ABÖE e.V.
REFRESH-INTERVAL;VALUE=DURATION:PT1H
X-Robots-Tag:noindex
X-PUBLISHED-TTL:PT1H
BEGIN:VTIMEZONE
TZID:Europe/Berlin
BEGIN:DAYLIGHT
TZOFFSETFROM:+0100
TZOFFSETTO:+0200
TZNAME:CEST
DTSTART:20200329T010000
END:DAYLIGHT
BEGIN:STANDARD
TZOFFSETFROM:+0200
TZOFFSETTO:+0100
TZNAME:CET
DTSTART:20201025T010000
END:STANDARD
BEGIN:DAYLIGHT
TZOFFSETFROM:+0100
TZOFFSETTO:+0200
TZNAME:CEST
DTSTART:20210328T010000
END:DAYLIGHT
BEGIN:STANDARD
TZOFFSETFROM:+0200
TZOFFSETTO:+0100
TZNAME:CET
DTSTART:20211031T010000
END:STANDARD
BEGIN:DAYLIGHT
TZOFFSETFROM:+0100
TZOFFSETTO:+0200
TZNAME:CEST
DTSTART:20220327T010000
END:DAYLIGHT
BEGIN:STANDARD
TZOFFSETFROM:+0200
TZOFFSETTO:+0100
TZNAME:CET
DTSTART:20221030T010000
END:STANDARD
END:VTIMEZONE
BEGIN:VEVENT
DTSTART;TZID=Europe/Berlin:20210520T150000
DTEND;TZID=Europe/Berlin:20210520T180000
DTSTAMP:20260424T140835
CREATED:20210112T104023Z
LAST-MODIFIED:20210330T113445Z
UID:789-1621522800-1621533600@www.aboee.de
SUMMARY:Projekt InBi- digitaler Workshop: Digitale Spiele - Suchtfaktor oder Lernfeld?
DESCRIPTION:Zu diesem Workshop laden wir Lehrkräfte und Schulsozialarbeiter:innen ein\, gemeinsam über die Herausforderung zwischen der Faszination Computerspiele und den Aufgaben des Alltags\, wie Familie\, Schule\, Freunde und andere Freizeitgestaltung nach zu denken. Der Umgang mit digitalen Medien im allgemeinen\, aber auch digitalen Spielen im Besonderen ist für jüngere Menschen mittlerweile Alltag. Gleichzeitig bietet die mediale Lebenswelt von Kindern und Jugendlichen neben Chancen auch verschiedene Konfliktfelder. Ziel des Workshops ist es\, miteinander ins Gespräch zu kommen\, Interesse und Bedürfnisse zu formulieren sowie Ideen und Umsetzungsmöglichkeiten zu entwickeln. Das Hinterfragen der eigenen Sichtweise auf digitale Spiele und der\ndamit einhergehende Diskurs über digitale Spiele kann die eigene Medienkompetenz weiter fördern. \nMarkus Gerstmann ist ein Bremer Medienpädagoge\, der in seiner Arbeitszeit Computerspiele spielen\, YouTube-Videos schauen und Apps ausprobieren darf. Aus den Erkenntnissen konzipiert er Workshops\, Konzepte\, Methode und Fachartikel. \n  \nFür die Anmeldung zu dieser Veranstaltung nutzen Sie bitte dieses Formblatt: Anmeldung InBi
URL:https://www.aboee.de/veranstaltung/projekt-inbi-onlineworkshop-digitale-spiele-suchtfaktor-oder-lernfeld/
LOCATION:online-VA über ecosero (browserbasiert)
CATEGORIES:InBi
ORGANIZER;CN="Projekt InBi":MAILTO:projekt.inbi@aboee.de
END:VEVENT
END:VCALENDAR