BEGIN:VCALENDAR
VERSION:2.0
PRODID:-//ABÖE e.V. - ECPv6.15.11//NONSGML v1.0//EN
CALSCALE:GREGORIAN
METHOD:PUBLISH
X-WR-CALNAME:ABÖE e.V.
X-ORIGINAL-URL:https://www.aboee.de
X-WR-CALDESC:Veranstaltungen für ABÖE e.V.
REFRESH-INTERVAL;VALUE=DURATION:PT1H
X-Robots-Tag:noindex
X-PUBLISHED-TTL:PT1H
BEGIN:VTIMEZONE
TZID:Europe/Berlin
BEGIN:DAYLIGHT
TZOFFSETFROM:+0100
TZOFFSETTO:+0200
TZNAME:CEST
DTSTART:20200329T010000
END:DAYLIGHT
BEGIN:STANDARD
TZOFFSETFROM:+0200
TZOFFSETTO:+0100
TZNAME:CET
DTSTART:20201025T010000
END:STANDARD
BEGIN:DAYLIGHT
TZOFFSETFROM:+0100
TZOFFSETTO:+0200
TZNAME:CEST
DTSTART:20210328T010000
END:DAYLIGHT
BEGIN:STANDARD
TZOFFSETFROM:+0200
TZOFFSETTO:+0100
TZNAME:CET
DTSTART:20211031T010000
END:STANDARD
BEGIN:DAYLIGHT
TZOFFSETFROM:+0100
TZOFFSETTO:+0200
TZNAME:CEST
DTSTART:20220327T010000
END:DAYLIGHT
BEGIN:STANDARD
TZOFFSETFROM:+0200
TZOFFSETTO:+0100
TZNAME:CET
DTSTART:20221030T010000
END:STANDARD
END:VTIMEZONE
BEGIN:VEVENT
DTSTART;TZID=Europe/Berlin:20210215T153000
DTEND;TZID=Europe/Berlin:20210215T173000
DTSTAMP:20260426T034934
CREATED:20210203T130037Z
LAST-MODIFIED:20210203T130354Z
UID:834-1613403000-1613410200@www.aboee.de
SUMMARY:Projekt InGe: Online-Workshop: "Teamarbeit in herausfordernden Zeiten. Was macht Corona mit dem Team? Teil 2"
DESCRIPTION:Aktuell befinden Kitas und Schulen sich wieder in einer Ausnahmesituation. Schul- und Kitaschließung\, Notbetreuung\, Kolleg*innen im Homeoffice\, dies alles wirkt sich auf die Zusammenarbeit im Team aus. Für Leitungskräfte ist dies eine große Herausforderung neben der Notwendigkeit\, den Laden am Laufen zu halten.\nEinige Kolleg*innen arbeiten im Homeoffice\, da sie zu den Risikogruppen gehören\, andere sind möglicherweise in Quarantäne oder auch erkrankt. Es gibt viel Fragen und Ängste\, die das Team beschäftigt.\nDiese Veränderungen und Erkenntnisse systematisch zu reflektieren und daraus Schlüsse für eine bessere und bewusstere Teamzusammenarbeit zu ziehen\, ist eine Chance\, die Sie nicht ungenützt lassen sollten.In diesem zweiteiligen Online-Workshop geht es neben dem kollegialen Austausch auch um Handlungsstrategien im Umgang mit der besonderen Situation. Was macht Corona mit dem Team? Welche Veränderungen nehmen wir wahr? Wie können wir uns gegenseitig unterstützen?\nDer Online-Workshop wird durchgeführt von Katja Pötzsch-Martin\, Supervisorin für Teams\, Gruppen und Einzelpersonen\, Teamentwicklung aus Oldenburg. \nDer erste Teil des Workshops fand am 8.2.2021 statt. Beide Workshop-Teile können nur zusammen gebucht werden.
URL:https://www.aboee.de/veranstaltung/834/
CATEGORIES:InGe
END:VEVENT
END:VCALENDAR