BEGIN:VCALENDAR
VERSION:2.0
PRODID:-//ABÖE e.V. - ECPv6.15.11//NONSGML v1.0//EN
CALSCALE:GREGORIAN
METHOD:PUBLISH
X-WR-CALNAME:ABÖE e.V.
X-ORIGINAL-URL:https://www.aboee.de
X-WR-CALDESC:Veranstaltungen für ABÖE e.V.
REFRESH-INTERVAL;VALUE=DURATION:PT1H
X-Robots-Tag:noindex
X-PUBLISHED-TTL:PT1H
BEGIN:VTIMEZONE
TZID:Europe/Berlin
BEGIN:DAYLIGHT
TZOFFSETFROM:+0100
TZOFFSETTO:+0200
TZNAME:CEST
DTSTART:20220327T010000
END:DAYLIGHT
BEGIN:STANDARD
TZOFFSETFROM:+0200
TZOFFSETTO:+0100
TZNAME:CET
DTSTART:20221030T010000
END:STANDARD
BEGIN:DAYLIGHT
TZOFFSETFROM:+0100
TZOFFSETTO:+0200
TZNAME:CEST
DTSTART:20230326T010000
END:DAYLIGHT
BEGIN:STANDARD
TZOFFSETFROM:+0200
TZOFFSETTO:+0100
TZNAME:CET
DTSTART:20231029T010000
END:STANDARD
BEGIN:DAYLIGHT
TZOFFSETFROM:+0100
TZOFFSETTO:+0200
TZNAME:CEST
DTSTART:20240331T010000
END:DAYLIGHT
BEGIN:STANDARD
TZOFFSETFROM:+0200
TZOFFSETTO:+0100
TZNAME:CET
DTSTART:20241027T010000
END:STANDARD
END:VTIMEZONE
BEGIN:VEVENT
DTSTART;TZID=Europe/Berlin:20231212T153000
DTEND;TZID=Europe/Berlin:20231212T190000
DTSTAMP:20260423T072732
CREATED:20230118T122907Z
LAST-MODIFIED:20230120T104328Z
UID:1358-1702395000-1702407600@www.aboee.de
SUMMARY:Projekt InGe: Qualifizierungsreihe "Kommunikation als Schlüssel zur Teilhabe"
DESCRIPTION:Von Februar bis Dezember 2023 findet die 9-teilige Qualifizierungsreihe „Kommunikation als Schlüssel zur Teilhabe“ für pädagogische Fachkräfte in Kita und Schule statt. Mit unterschiedlichen Schwerpunkten wird die Kommunikation mit Kindern\, Eltern und im Team unter Begleitung von fachlich versierten Referent*innen praxisnah bearbeitet. Das Spektrum umfasst Grundlagen zu gewaltfreier\, interkultureller\, diversitätsbewusster und visualisierter Kommunikation\, zur dialogischen Haltung und zur Einfachen Sprache. Es sollten möglichst alle Module besucht werden\, die Buchung von einzelnen Teilen des Angebots ist aber ebenfalls möglich. Bitte melden Sie sich mit dem ausgefüllten und unterschriebenen InGe Anmeldebogen per mail unter projekt.inge@lilienthal verbindlich unter Nennung der Module an.\nAlle Module finden von 15.30 Uhr bis 19.00 Uhr in der Alten Schule Falkenberg in Lilienthal statt \nModul 1: Grundlagen der Kommunikation (22.02.2023)\nModul 2 -4: Gewaltfreie Kommunikation (mit Kindern\, mit Eltern\, im Team) (21.03.2023 / 26.04.2023 / 23.05.2023)\nModul 5: Einfache Sprache (22.06.2023)\nModul 6: Interkulturelle Kommunikation (23.08.2023)\nModul 7: Diversitätsbewusste Kommunikation (20.09.2023)\nModul 8: Visualisierte Kommunikation (08.11.2023)\nModul 9: Dialogische Haltung (12.12.2023)
URL:https://www.aboee.de/veranstaltung/projekt-inge-qualifizierungsreihe-kommunikation-als-schluessel-zur-teilhabe-10/
LOCATION:Alte Schule Falkenberg\, Falkenberger Landstraße 67\, 28865 Lilienthal\, 28865\, Deutschland
CATEGORIES:InGe
ORGANIZER;CN="Projekt InGe":MAILTO:projekt.inge@lilienthal.de
END:VEVENT
BEGIN:VEVENT
DTSTART;TZID=Europe/Berlin:20231213T143000
DTEND;TZID=Europe/Berlin:20231213T173000
DTSTAMP:20260423T072732
CREATED:20230725T131717Z
LAST-MODIFIED:20230725T131717Z
UID:1550-1702477800-1702488600@www.aboee.de
SUMMARY:Projekt best 4-tlge Qualifizierungsreihe: Gelingende Kommunikation in Kindertageseinrichtungen gestalten\, Modul 4: "Diversitätssensibel in der Kindertageseinrichtung kommunizieren"\, 13.12.2023
DESCRIPTION:Im Rahmen der 4-teiligen Workshopreihe „Gelingende Kommunikation in Kindertageseinrichtungen gestalten“ finden mehrere Termine statt. In diesem Modul Nr. 4 „Diversitätssensibel in der Kindertageseinrichtung kommunizieren“ beschäftigen wir uns mit den Grundlagen Diversität und Vielfalt\, mit dem Einfluss eigener Normalitätsvorstellungen und Vorurteile sowie Stereotype sowie dem Aufzeigen von Möglichkeiten der diversitätsbewussten Kommunikation. \nDas Ziel besteht in der eigenen Sensibilisierung\, Vermeidung von Diskriminierung\, Steigerung der Chancengleichheit und Teilhabegerechtigkeit. \nAnmeldeschluss: 06. Dezember 2023 unter projekt.best@aboee.de
URL:https://www.aboee.de/veranstaltung/projekt-best-4-tlge-qualifizierungsreihe-gelingende-kommunikation-in-kindertageseinrichtungen-gestalten-modul-4-diversitaetssensibel-in-der-kindertageseinrichtung-kommunizieren-13-12-2023/
LOCATION:Rathaus Schwanewede\, Damm 4\, Schwanewede\, Niedersachsen\, 28790
CATEGORIES:best
END:VEVENT
END:VCALENDAR