BEGIN:VCALENDAR
VERSION:2.0
PRODID:-//ABÖE e.V. - ECPv6.15.11//NONSGML v1.0//EN
CALSCALE:GREGORIAN
METHOD:PUBLISH
X-WR-CALNAME:ABÖE e.V.
X-ORIGINAL-URL:https://www.aboee.de
X-WR-CALDESC:Veranstaltungen für ABÖE e.V.
REFRESH-INTERVAL;VALUE=DURATION:PT1H
X-Robots-Tag:noindex
X-PUBLISHED-TTL:PT1H
BEGIN:VTIMEZONE
TZID:Europe/Berlin
BEGIN:DAYLIGHT
TZOFFSETFROM:+0100
TZOFFSETTO:+0200
TZNAME:CEST
DTSTART:20220327T010000
END:DAYLIGHT
BEGIN:STANDARD
TZOFFSETFROM:+0200
TZOFFSETTO:+0100
TZNAME:CET
DTSTART:20221030T010000
END:STANDARD
BEGIN:DAYLIGHT
TZOFFSETFROM:+0100
TZOFFSETTO:+0200
TZNAME:CEST
DTSTART:20230326T010000
END:DAYLIGHT
BEGIN:STANDARD
TZOFFSETFROM:+0200
TZOFFSETTO:+0100
TZNAME:CET
DTSTART:20231029T010000
END:STANDARD
BEGIN:DAYLIGHT
TZOFFSETFROM:+0100
TZOFFSETTO:+0200
TZNAME:CEST
DTSTART:20240331T010000
END:DAYLIGHT
BEGIN:STANDARD
TZOFFSETFROM:+0200
TZOFFSETTO:+0100
TZNAME:CET
DTSTART:20241027T010000
END:STANDARD
END:VTIMEZONE
BEGIN:VEVENT
DTSTART;TZID=Europe/Berlin:20231018T143000
DTEND;TZID=Europe/Berlin:20231018T173000
DTSTAMP:20260423T110331
CREATED:20230421T104122Z
LAST-MODIFIED:20230725T130107Z
UID:1483-1697639400-1697650200@www.aboee.de
SUMMARY:Projekt best: 4-teilige Qualifizierungsreihe Gelingende Kommunikation in Kindertageseinrichtungen gestalten\, Modul 2: "Dialogische Haltung als Basis gelingender Kommunikation in der Kita" am 18. Oktober 2023
DESCRIPTION:Im Rahmen der 4-teiligen Workshopreihe „Gelingende Kommunikation in Kindertageseinrichtungen gestalten“ finden mehrere Termine statt. In diesem Modul Nr. 2 „Dialogische Haltung als Basis gelingender Kommunikation in der Kita“ beschäftigen wir uns mit folgenden Themen und Fragestellungen: \n\nGrundlagen zu den Anforderungen an professionelle (inklusive) Haltung\, Handlung und Sprache (David Bohm)\nWertehaltungen als handlungsleitende Orientierungen verstehen\nKernkompetenzen der pädagogischen Fachkraft reflektieren (z.B. biografische Kompetenz und Responsivität)\nRadikalen Respekt\nEigene Ressourcen und Talente bestimmen\n\nDas Ziel besteht darin\, zu lernen\, wie ein Dialogprozess als Ort der Begegnung und des Austausches\, als Weg zu einer aufbauenden Kommunikation und als Ort für Vertrauen und Selbstreflexion gestaltet werden kann.
URL:https://www.aboee.de/veranstaltung/projekt-best/
LOCATION:Rathaus Schwanewede\, Damm 4\, Schwanewede\, Niedersachsen\, 28790
CATEGORIES:best
END:VEVENT
END:VCALENDAR