BEGIN:VCALENDAR
VERSION:2.0
PRODID:-//ABÖE e.V. - ECPv6.15.11//NONSGML v1.0//EN
CALSCALE:GREGORIAN
METHOD:PUBLISH
X-WR-CALNAME:ABÖE e.V.
X-ORIGINAL-URL:https://www.aboee.de
X-WR-CALDESC:Veranstaltungen für ABÖE e.V.
REFRESH-INTERVAL;VALUE=DURATION:PT1H
X-Robots-Tag:noindex
X-PUBLISHED-TTL:PT1H
BEGIN:VTIMEZONE
TZID:Europe/Berlin
BEGIN:DAYLIGHT
TZOFFSETFROM:+0100
TZOFFSETTO:+0200
TZNAME:CEST
DTSTART:20220327T010000
END:DAYLIGHT
BEGIN:STANDARD
TZOFFSETFROM:+0200
TZOFFSETTO:+0100
TZNAME:CET
DTSTART:20221030T010000
END:STANDARD
BEGIN:DAYLIGHT
TZOFFSETFROM:+0100
TZOFFSETTO:+0200
TZNAME:CEST
DTSTART:20230326T010000
END:DAYLIGHT
BEGIN:STANDARD
TZOFFSETFROM:+0200
TZOFFSETTO:+0100
TZNAME:CET
DTSTART:20231029T010000
END:STANDARD
BEGIN:DAYLIGHT
TZOFFSETFROM:+0100
TZOFFSETTO:+0200
TZNAME:CEST
DTSTART:20240331T010000
END:DAYLIGHT
BEGIN:STANDARD
TZOFFSETFROM:+0200
TZOFFSETTO:+0100
TZNAME:CET
DTSTART:20241027T010000
END:STANDARD
END:VTIMEZONE
BEGIN:VEVENT
DTSTART;TZID=Europe/Berlin:20230823T153000
DTEND;TZID=Europe/Berlin:20230823T190000
DTSTAMP:20260423T142657
CREATED:20230118T120958Z
LAST-MODIFIED:20230118T120958Z
UID:1348-1692804600-1692817200@www.aboee.de
SUMMARY:Projekt InGe: Qualifizierungsreihe "Kommunikation als Schlüssel zur Teilhabe"
DESCRIPTION:Von Februar bis Dezember 2023 findet die 9-teilige Qualifizierungsreihe „Kommunikation als Schlüssel zur Teilhabe“ für pädagogische Fachkräfte in Kita und Schule statt. Mit unterschiedlichen Schwerpunkten wird die Kommunikation mit Kindern\, Eltern und im Team unter Begleitung von fachlich versierten Referent*innen praxisnah bearbeitet. Das Spektrum umfasst Grundlagen zu gewaltfreier\, interkultureller\, diversitätsbewusster und visualisierter Kommunikation\, zur dialogischen Haltung und zur Einfachen Sprache. Es sollten möglichst alle Module besucht werden\, die Buchung von einzelnen Teilen des Angebots ist aber ebenfalls möglich. Bitte melden Sie sich mit dem ausgefüllten und unterschriebenen InGe Anmeldebogen per mail unter projekt.inge@lilienthal verbindlich unter Nennung der Module an.\nAlle Module finden von 15.30 Uhr bis 19.00 Uhr in der Alten Schule Falkenberg in Lilienthal statt \nModul 1: Grundlagen der Kommunikation (22.02.2023)\nModul 2 -4: Gewaltfreie Kommunikation (mit Kindern\, mit Eltern\, im Team) (21.03.2023 / 26.04.2023 / 23.05.2023)\nModul 5: Einfache Sprache (22.06.2023)\nModul 6: Interkulturelle Kommunikation (23.08.2023)\nModul 7: Diversitätsbewusste Kommunikation (20.09.2023)\nModul 8: Visualisierte Kommunikation (08.11.2023)\nModul 9: Dialogische Haltung (12.12.2023)
URL:https://www.aboee.de/veranstaltung/projekt-inge-qualifizierungsreihe-kommunikation-als-schluessel-zur-teilhabe-6/
LOCATION:Alte Schule Falkenberg\, Falkenberger Landstraße 67\, 28865 Lilienthal\, 28865\, Deutschland
CATEGORIES:InGe
ORGANIZER;CN="Projekt InGe":MAILTO:projekt.inge@lilienthal.de
END:VEVENT
BEGIN:VEVENT
DTSTART;TZID=Europe/Berlin:20230830T143000
DTEND;TZID=Europe/Berlin:20230830T173000
DTSTAMP:20260423T142657
CREATED:20230421T105629Z
LAST-MODIFIED:20230421T105629Z
UID:1493-1693405800-1693416600@www.aboee.de
SUMMARY:Projekt best: "Wertschätzende Kommunikation mit Kindern\, Eltern und im Team"\, 30. August 2023
DESCRIPTION:Im Rahmen der 4-teiligen Workshopreihe „Kommunikation in Kitas als Brücke zu Kindern\, Eltern und dem Team“ finden mehrere Termine statt. In diesem Modul Nr. 3 „Wertschätzende Kommunikation mit Kindern\, Eltern und im Team“ beschäftigen wir uns mit folgenden Themen und Fragestellungen: \n\nGrundlagen der gewaltfreien und wertschätzenden Kommunikation\nUnterschied Beobachtung – Bewertung\nGefühl? Bedürfnis? Was steckt dahinter?\nEigene Bedürfnisse erkennen und wertschätzend formulieren lernen\n\nZiel: Ein respektvolles Miteinander auf Augenhöhe\, Zufriedenheit und Sinnerfüllung gestalten lernen. Wertschätzende Kommunikation ist eine Sprache die verbindet\, die Beziehungen so gestaltet\, dass jeder davon profitiert. \nAnmeldeschluss ist der 23.08.2023
URL:https://www.aboee.de/veranstaltung/projekt-best-wertschaetzende-kommunikation-mit-kindern-eltern-und-im-team-30-august-2023/
LOCATION:Rathaus Schwanewede\, Damm 4\, Schwanewede\, Niedersachsen\, 28790
CATEGORIES:best
END:VEVENT
END:VCALENDAR