BEGIN:VCALENDAR
VERSION:2.0
PRODID:-//ABÖE e.V. - ECPv6.15.11//NONSGML v1.0//EN
CALSCALE:GREGORIAN
METHOD:PUBLISH
X-WR-CALNAME:ABÖE e.V.
X-ORIGINAL-URL:https://www.aboee.de
X-WR-CALDESC:Veranstaltungen für ABÖE e.V.
REFRESH-INTERVAL;VALUE=DURATION:PT1H
X-Robots-Tag:noindex
X-PUBLISHED-TTL:PT1H
BEGIN:VTIMEZONE
TZID:Europe/Berlin
BEGIN:DAYLIGHT
TZOFFSETFROM:+0100
TZOFFSETTO:+0200
TZNAME:CEST
DTSTART:20210328T010000
END:DAYLIGHT
BEGIN:STANDARD
TZOFFSETFROM:+0200
TZOFFSETTO:+0100
TZNAME:CET
DTSTART:20211031T010000
END:STANDARD
BEGIN:DAYLIGHT
TZOFFSETFROM:+0100
TZOFFSETTO:+0200
TZNAME:CEST
DTSTART:20220327T010000
END:DAYLIGHT
BEGIN:STANDARD
TZOFFSETFROM:+0200
TZOFFSETTO:+0100
TZNAME:CET
DTSTART:20221030T010000
END:STANDARD
BEGIN:DAYLIGHT
TZOFFSETFROM:+0100
TZOFFSETTO:+0200
TZNAME:CEST
DTSTART:20230326T010000
END:DAYLIGHT
BEGIN:STANDARD
TZOFFSETFROM:+0200
TZOFFSETTO:+0100
TZNAME:CET
DTSTART:20231029T010000
END:STANDARD
END:VTIMEZONE
BEGIN:VEVENT
DTSTART;TZID=Europe/Berlin:20220307T150000
DTEND;TZID=Europe/Berlin:20220307T160000
DTSTAMP:20260424T175053
CREATED:20220217T110051Z
LAST-MODIFIED:20220217T111522Z
UID:1187-1646665200-1646668800@www.aboee.de
SUMMARY:Projekt InBi: Montagshäppchen: Online-Veranstaltung - aber wie?!
DESCRIPTION:„Oh\, die Veranstaltung klingt interessant.“ Dieser Satz ist beim großen digitalen Angebot schnell gedacht\, aber anschließend stellen sich manchmal Fragen: Wie logge ich mich ein? Wo muss ich raufklicken? Geht mein Mikrofon? Wir helfen bei den Grundlagen\, die nötig sind\, um an digitalen Veranstaltungen teilzunehmen. Wir sind in dieser Stunde telefonisch erreichbar unter 04292 – 8196003 und 0160 – 7674848. Wir helfen dabei in unseren offenen Proberaum zu kommen\, der unter folgendem Link erreichbar sein wird: https://aboee.ecosero.de/run/meeting?p_muuid=6964072061642696491498494 \n 
URL:https://www.aboee.de/veranstaltung/montagshaeppchen-online-veranstaltung-aber-wie/
LOCATION:online-VA über ecosero (browserbasiert)
CATEGORIES:InBi
ORGANIZER;CN="Projekt InBi":MAILTO:projekt.inbi@aboee.de
END:VEVENT
BEGIN:VEVENT
DTSTART;TZID=Europe/Berlin:20220314T150000
DTEND;TZID=Europe/Berlin:20220314T160000
DTSTAMP:20260424T175053
CREATED:20220217T110529Z
LAST-MODIFIED:20220217T110529Z
UID:1190-1647270000-1647273600@www.aboee.de
SUMMARY:Projekt InBi: Montagshäppchen: Online-Veranstaltungen - Potentiale nutzen
DESCRIPTION:Die Teilnahme an digitalen Veranstaltungen stellt keine Herausforderung mehr dar? Der digitale Raum bietet aber noch mehr Möglichkeiten. Wie kann ich selber interaktiv arbeiten? Welche Funktionen sollte ich noch kennenlernen\, damit es in der nächsten Teamsitzung noch besser klappt? Wir helfen beim Kennenlernen des digitalen Raumes und sind in dieser Stunde telefonisch erreichbar unter 04292 – 8196003 und 0160 – 7674848. Wir laden herzlich ein\, in unseren offenen Proberaum zu kommen\, der unter folgendem Link erreichbar sein wird: https://aboee.ecosero.de/run/meeting?p_muuid=8877653485303994234812537
URL:https://www.aboee.de/veranstaltung/projekt-inbi-montagshaeppchen-online-veranstaltungen-potentiale-nutzen/
LOCATION:online-VA über ecosero (browserbasiert)
CATEGORIES:InBi
ORGANIZER;CN="Projekt InBi":MAILTO:projekt.inbi@aboee.de
END:VEVENT
BEGIN:VEVENT
DTSTART;TZID=Europe/Berlin:20220316T150000
DTEND;TZID=Europe/Berlin:20220316T170000
DTSTAMP:20260424T175053
CREATED:20220217T110841Z
LAST-MODIFIED:20220217T110913Z
UID:1192-1647442800-1647450000@www.aboee.de
SUMMARY:Projekt InBi: Mittwochshäppchen: Einführung in die Gebärdensprache
DESCRIPTION:Gebärden unterstützen das menschliche Bedürfnis sich mitzuteilen und können helfen in die gesprochene Sprache hinein zu wachsen. Gebärden sind ein wertvolles Hilfsmittel für alle pädagogischen Fachkräfte. Im Workshop begleitet Sie Tina de Boer beim Einstieg in die Arbeit mit Gebärden als unterstützendes Element in der Kommunikation. \nFür die Teilnahme an der Veranstaltung senden Sie uns bitte folgendes Dokument zu: Anmeldung InBi
URL:https://www.aboee.de/veranstaltung/projekt-inbi-mittwochshaeppchen-einfuehrung-in-die-gebaerdensprache/
LOCATION:online-VA über ecosero (browserbasiert)
CATEGORIES:InBi
ORGANIZER;CN="Projekt InBi":MAILTO:projekt.inbi@aboee.de
END:VEVENT
BEGIN:VEVENT
DTSTART;TZID=Europe/Berlin:20220323T153000
DTEND;TZID=Europe/Berlin:20220323T190000
DTSTAMP:20260424T175053
CREATED:20210203T133739Z
LAST-MODIFIED:20210203T133739Z
UID:852-1648049400-1648062000@www.aboee.de
SUMMARY:Projekt InGe: Modulreihe: "Kommunikation als Schlüssel zur Teilhabe"
DESCRIPTION:Von März 2021 bis Mai 2022 bieten für pädagogische Fachkräfte eine 9-modulige Fortbildungsreihe zum Thema „Kommunikation als Schlüssel zur Teilhabe“ an. Die Module können nur zusammen besucht werden. Sie finden jeweils am Mittwoch von 15.30 – 19.00 Uhr in Murkens Hof in Lilienthal statt. \nModul 1: Grundlagen der Kommunikation\nModul 2 – 4: Gewaltfreie Kommunikation (mit Kindern / mit Eltern / im Team)\nModul 5: Interkulturelle Kommunikation\nModul 6: Diversitätsbewusste Kommunikation\nModul 7: Dialogische Haltung\nModul 8: Einfache Sprache\nModul 9: Visualisierte Kommunikation \nWeitere Informationen unter Telefon 04298 – 929-243.
URL:https://www.aboee.de/veranstaltung/projekt-inge-modulreihe-kommunikation-als-schluessel-zur-teilhabe-8/
LOCATION:vhs Lilienthal\, Klosterstr.25\, Lilienthal\, 28865\, Deutschland
CATEGORIES:InGe
ORGANIZER;CN="Projekt InGe":MAILTO:projekt.inge@lilienthal.de
END:VEVENT
BEGIN:VEVENT
DTSTART;TZID=Europe/Berlin:20220328T150000
DTEND;TZID=Europe/Berlin:20220328T170000
DTSTAMP:20260424T175053
CREATED:20220217T111929Z
LAST-MODIFIED:20220217T111929Z
UID:1197-1648479600-1648486800@www.aboee.de
SUMMARY:Projekt InBi: Montagshäppchen: (Rechts-)Extreme Parolen kompetent kontern
DESCRIPTION:Vorurteile bei Eltern\, Kolleg:innen oder Freund:innen? In der Kita\, Schule oder auch im privaten Umfeld lassen einen manche Aussagen erst einmal sprachlos zurück. Mit diesem Kurzworkshop wollen wir Tipps geben\, wie diese Schockstarre überwunden werden kann. Helga Gundlach gibt Anregungen und Hilfen\, wie man sich gegen (rechts-)extreme Parolen im Berufsleben\, der Öffentlichkeit oder im Privatem kompetent wehren kann. \nFür die Teilnahme an der Veranstaltung senden Sie uns bitte folgendes Dokument zu: Anmeldung InBi
URL:https://www.aboee.de/veranstaltung/projekt-inbi-montagshaeppchen-rechts-extreme-parolen-kompetent-kontern/
LOCATION:online-VA über ecosero (browserbasiert)
CATEGORIES:InBi
ORGANIZER;CN="Projekt InBi":MAILTO:projekt.inbi@aboee.de
END:VEVENT
END:VCALENDAR