BEGIN:VCALENDAR
VERSION:2.0
PRODID:-//ABÖE e.V. - ECPv6.15.11//NONSGML v1.0//EN
CALSCALE:GREGORIAN
METHOD:PUBLISH
X-WR-CALNAME:ABÖE e.V.
X-ORIGINAL-URL:https://www.aboee.de
X-WR-CALDESC:Veranstaltungen für ABÖE e.V.
REFRESH-INTERVAL;VALUE=DURATION:PT1H
X-Robots-Tag:noindex
X-PUBLISHED-TTL:PT1H
BEGIN:VTIMEZONE
TZID:Europe/Berlin
BEGIN:DAYLIGHT
TZOFFSETFROM:+0100
TZOFFSETTO:+0200
TZNAME:CEST
DTSTART:20230326T010000
END:DAYLIGHT
BEGIN:STANDARD
TZOFFSETFROM:+0200
TZOFFSETTO:+0100
TZNAME:CET
DTSTART:20231029T010000
END:STANDARD
BEGIN:DAYLIGHT
TZOFFSETFROM:+0100
TZOFFSETTO:+0200
TZNAME:CEST
DTSTART:20240331T010000
END:DAYLIGHT
BEGIN:STANDARD
TZOFFSETFROM:+0200
TZOFFSETTO:+0100
TZNAME:CET
DTSTART:20241027T010000
END:STANDARD
BEGIN:DAYLIGHT
TZOFFSETFROM:+0100
TZOFFSETTO:+0200
TZNAME:CEST
DTSTART:20250330T010000
END:DAYLIGHT
BEGIN:STANDARD
TZOFFSETFROM:+0200
TZOFFSETTO:+0100
TZNAME:CET
DTSTART:20251026T010000
END:STANDARD
END:VTIMEZONE
BEGIN:VEVENT
DTSTART;TZID=Europe/Berlin:20240424T150000
DTEND;TZID=Europe/Berlin:20240424T183000
DTSTAMP:20260423T030947
CREATED:20231116T131620Z
LAST-MODIFIED:20231116T132415Z
UID:1619-1713970800-1713983400@www.aboee.de
SUMMARY:Projekt InGe: Workshop "GuK - Teilhabe sichern von allen Kindern durch gebärdenunterstützte Kommunikation im Kita- und Schulalltag"
DESCRIPTION:Workshop für pädagogische Fachkräfte in Kitas und Lehrkräfte in Grundschulen. \nGebärden im Kita- und Schulalltag sind ein Angebot\, das alle Kinder einbezieht. Mit dem Konzept der GuK werden nicht nur Kinder mit Entwicklungsverzögerungen und Behinderungen besonders angesprochen.Gerade auch für mehrsprachige Kinder können die Gebärden ein Türöffner für den Einstieg in die deutsche Sprache sein.\nSchon bevor Kleinkinder ihre ersten Worte sprechen\, können sie Bedürfnisse oder Beobachtungen durch einfache Handzeichen mitteilen. Dieses Phänomen ist bereits beim Einsatz von Fingerspielen zu beobachten. Im Workshop wird an diese Erfahrungen angeknüpft – Gesten und Gebärden werden parallel zur gesprochenen Sprache eingesetzt\, um die Beziehung und Kommunikation im Miteinander zu stärken.\nDer Workshop ist speziell auf die Bedürfnisse von pädagogischen Fachkräften in der Kita und Grundschule ausgerichtet. Im Vordergrund steht die fundierte und praktische Vermittlung von einzelnen Gebärden der Deutschen Gebärdensprache (dgs) für den Alltag mit Kindern. Anschließend können die Teilnehmenden die ersten wichtigsten Gebärden direkt einsetzen.\nReferentin: Tina de Boer
URL:https://www.aboee.de/veranstaltung/projekt-inge-workshop-guk-teilhabe-sichern-von-allen-kindern-durch-gebaerdenunterstuetzte-kommunikation-im-kita-und-schulalltag/
LOCATION:Rathaus Worpswede\, Bauernreihe 1\, Worpswede\, 27726\, Deutschland
ORGANIZER;CN="Projekt InGe":MAILTO:projekt.inge@lilienthal.de
END:VEVENT
END:VCALENDAR