BEGIN:VCALENDAR
VERSION:2.0
PRODID:-//ABÖE e.V. - ECPv6.15.11//NONSGML v1.0//EN
CALSCALE:GREGORIAN
METHOD:PUBLISH
X-WR-CALNAME:ABÖE e.V.
X-ORIGINAL-URL:https://www.aboee.de
X-WR-CALDESC:Veranstaltungen für ABÖE e.V.
REFRESH-INTERVAL;VALUE=DURATION:PT1H
X-Robots-Tag:noindex
X-PUBLISHED-TTL:PT1H
BEGIN:VTIMEZONE
TZID:Europe/Berlin
BEGIN:DAYLIGHT
TZOFFSETFROM:+0100
TZOFFSETTO:+0200
TZNAME:CEST
DTSTART:20230326T010000
END:DAYLIGHT
BEGIN:STANDARD
TZOFFSETFROM:+0200
TZOFFSETTO:+0100
TZNAME:CET
DTSTART:20231029T010000
END:STANDARD
BEGIN:DAYLIGHT
TZOFFSETFROM:+0100
TZOFFSETTO:+0200
TZNAME:CEST
DTSTART:20240331T010000
END:DAYLIGHT
BEGIN:STANDARD
TZOFFSETFROM:+0200
TZOFFSETTO:+0100
TZNAME:CET
DTSTART:20241027T010000
END:STANDARD
BEGIN:DAYLIGHT
TZOFFSETFROM:+0100
TZOFFSETTO:+0200
TZNAME:CEST
DTSTART:20250330T010000
END:DAYLIGHT
BEGIN:STANDARD
TZOFFSETFROM:+0200
TZOFFSETTO:+0100
TZNAME:CET
DTSTART:20251026T010000
END:STANDARD
END:VTIMEZONE
BEGIN:VEVENT
DTSTART;TZID=Europe/Berlin:20240221T150000
DTEND;TZID=Europe/Berlin:20240221T180000
DTSTAMP:20260423T063237
CREATED:20231116T125201Z
LAST-MODIFIED:20231116T131741Z
UID:1610-1708527600-1708538400@www.aboee.de
SUMMARY:Projekt InGe: Workshop "Konflikte mit Eltern - Ein Perspektivenwechsel" (Teil 1)
DESCRIPTION:Zweiteiliger Workshop für pädagogische Fachkräfte in Kitas und Grundschulen. \nIn der Zusammenarbeit zwischen Erzieher:innen\, Lehrer:innen und Eltern entstehen immer wieder Missverständnisse. Personen fühlen sich angegriffen oder vorwurfsvoll behandelt. Das kann zu andauernden Konflikten führen\, die für die Pädagog:innen\, Eltern und nicht zuletzt für die Kinder belastend sind.\nIm gemeinsamen Austausch und mit Methoden des Improvisations- und Forumtheaters können Pädagog:innen ihre persönlichen Handlungsspielräume erweitern\, erproben und erkennen.\nDie Lehrerin und Schauspielerin Marion Witt gibt im Workshop spielerisch Impulse und Anregungen. Es geht darum: \n\neine Balance zwischen annehmender Wertschätzung und kraftvoller Klarheit in der Kommunikation zu finden\nHandlungsspielräume in Konfliktsituationen zu erkennen und zu erweitern\ndie Konfliktfähigkeit zu stärken und den Umgang mit Frustration zu lernen\n\nTeilnehmende sollten Freude und Interesse daran haben\, Neues auszuprobieren.\nDie Workshopteile ergänzen sich\, daher ist eine Anmeldung für beide Termine (21.2. und 13.3.2024) erwünscht.
URL:https://www.aboee.de/veranstaltung/projekt-inge-workshop-konflikte-mit-eltern-ein-perspektivenwechsel/
LOCATION:Rathaus Grasberg\, Speckmannstr. 30\, Grasberg\, 28879\, Deutschland
CATEGORIES:InGe
ORGANIZER;CN="Projekt InGe":MAILTO:projekt.inge@lilienthal.de
END:VEVENT
END:VCALENDAR