BEGIN:VCALENDAR
VERSION:2.0
PRODID:-//ABÖE e.V. - ECPv6.15.11//NONSGML v1.0//EN
CALSCALE:GREGORIAN
METHOD:PUBLISH
X-WR-CALNAME:ABÖE e.V.
X-ORIGINAL-URL:https://www.aboee.de
X-WR-CALDESC:Veranstaltungen für ABÖE e.V.
REFRESH-INTERVAL;VALUE=DURATION:PT1H
X-Robots-Tag:noindex
X-PUBLISHED-TTL:PT1H
BEGIN:VTIMEZONE
TZID:Europe/Berlin
BEGIN:DAYLIGHT
TZOFFSETFROM:+0100
TZOFFSETTO:+0200
TZNAME:CEST
DTSTART:20220327T010000
END:DAYLIGHT
BEGIN:STANDARD
TZOFFSETFROM:+0200
TZOFFSETTO:+0100
TZNAME:CET
DTSTART:20221030T010000
END:STANDARD
BEGIN:DAYLIGHT
TZOFFSETFROM:+0100
TZOFFSETTO:+0200
TZNAME:CEST
DTSTART:20230326T010000
END:DAYLIGHT
BEGIN:STANDARD
TZOFFSETFROM:+0200
TZOFFSETTO:+0100
TZNAME:CET
DTSTART:20231029T010000
END:STANDARD
BEGIN:DAYLIGHT
TZOFFSETFROM:+0100
TZOFFSETTO:+0200
TZNAME:CEST
DTSTART:20240331T010000
END:DAYLIGHT
BEGIN:STANDARD
TZOFFSETFROM:+0200
TZOFFSETTO:+0100
TZNAME:CET
DTSTART:20241027T010000
END:STANDARD
END:VTIMEZONE
BEGIN:VEVENT
DTSTART;TZID=Europe/Berlin:20230418T150000
DTEND;TZID=Europe/Berlin:20230418T180000
DTSTAMP:20260423T230736
CREATED:20230214T121743Z
LAST-MODIFIED:20230214T122234Z
UID:1372-1681830000-1681840800@www.aboee.de
SUMMARY:Projekt InGe: Workshop "Kinder in Balance bringen - über Bewegung aus dem Stress kommen"
DESCRIPTION:Workshop für pädagogische Fachkräfte in Kita und Krippe.\nViele Kindergartenkinder leiden heute unter Stress und/oder mangelnder Bewegung. Die Gründe sind vielfältig und nicht alle neu. In der letzten Zeit kommen jedoch noch weitere Stressoren und Ängste hinzu: unverhältnismäßig hoher Medienkonsum (Corona bedingter Anstieg)\, Stress und finanzielle Sorgen in den Familien\, angstmachende Äußerungen der Erwachsenen und in den Nachrichten zur geopolitischen Lage oder der Klimakrise und anderes mehr.\nInsbesondere mit Übungen aus dem Brain Gym®\, der Klopfakupressur und dem Touch for Health können schon Kinder lernen sich selbstwirksam zu unterstützen und energetisch auszubalancieren. Hilfe zur Selbsthilfe ist das Ziel.\nIn dem Workshop werden ausgewählte Übungen den pädagogischen Fachkräften theoretisch und praktisch vermittelt\, so dass sie sofort in der Praxis eingesetzt werden können. Das bewegte Lernen kann dazu führen\, dass Kinder ruhiger\, zuversichtlicher und zentrierter werden und sie rücksichtsvoller miteinander umgehen. Anleitungen zur passiven Arbeit mit Krippenkindern sind ebenfalls Bestandteil des Workshops. Alle Übungen sind kurzweilig\, auch für Erwachsene ein Gewinn und somit auch ein Beitrag zur Bewegung und Stressreduktion der Kita- Mitarbeiter:innen.\nReferentin: Marina Feldmann\, Diplom-Pädagogin\, Kinesiologin BK DGAK.\nBitte melden Sie sich bis zum 28.3.2023 verbindlich an mit dem ausgefüllten und unterschriebenen InGe Anmeldebogen
URL:https://www.aboee.de/veranstaltung/projekt-inge-workshop-kinder-in-balance-bringen-ueber-bewegung-aus-dem-stress-kommen/
LOCATION:Alte Schule Falkenberg\, Falkenberger Landstraße 67\, 28865 Lilienthal\, 28865\, Deutschland
CATEGORIES:InGe
ORGANIZER;CN="Projekt InGe":MAILTO:projekt.inge@lilienthal.de
END:VEVENT
BEGIN:VEVENT
DTSTART;TZID=Europe/Berlin:20230425T150000
DTEND;TZID=Europe/Berlin:20230425T180000
DTSTAMP:20260423T230736
CREATED:20230214T124452Z
LAST-MODIFIED:20230214T130321Z
UID:1379-1682434800-1682445600@www.aboee.de
SUMMARY:Projekt InGe: Qualifizierungsreihe "Medienbildung in der Kita"
DESCRIPTION:Qualifizierungsreihe in 7 Modulen für pädagogische Fachkräfte in der Kita von März bis November 2023. Die Module sollten zusammen besucht werden. Es ist jedoch möglich sich auch für einzelne Module anzumelden. Verbindliche Anmeldung bitte bis zum 1.3.2023 mit dem ausgefüllten und unterschriebenen InGe Anmeldebogen \nDigitale Medien sind wesentliche Bestandteile des täglichen Lebens und spielen in der kindlichen Entwicklung eine immer wichtigere Rolle. Letztlich entscheiden sie mit über den Bildungserfolg der Kinder. Für die pädagogischen Fachkräfte bedeutet es\, die Kinder hierbei kompetent begleiten zu können.\nDie Qualifizierungsreihe „Medienbildung in der Kita“ trägt dazu bei\, pädagogischen Fachkräften entsprechende Kompetenzen zu vermitteln\, um den Kindern das vielfältige Medienangebot näher zu bringen. Es geht es darum sich mit digitalen Medien wie z.B. Computer\, Handy\, Fotokamera vertraut zu machen und die unterschiedlichen Einsatzmöglichkeiten im Kita-Alltag kennenzulernen. \nTablets (IPad) werden zur Verfügung gestellt oder können mitgebracht werden.\nReferent:innen: Bianca Kühn und Olaf Haschke \n\n\n\nDatum\nThema\n\n\nDienstag\, 14. März 2023\nTrickfilm und Trickfoto \nErstellen\, fotografieren und filmen\, Trickfilm mit der APP „Stopmotion Studio“ erstellen (Farbe: petrol – kostenfreie Variante. Wir arbeiten anschließend mit imovie)\n\n\nDienstag\, 25. April 2023\nBee Bots – Programmieren mit Kindern \nDer Bee-Bot ist ein kleiner Roboter. Mithilfe von Tasten kann dieser gesteuert werden. Die Kinder lernen auf spielerische Weise welche Codes sie eingeben müssen\, um ihr Ziel zu erreichen.\n\n\nDonnerstag\, 25. Mai 2023\nKeine Angst vor der Technik \nWas wird wie zusammen gesteckt und geschaltet\, wie kann ich Handy\, Tablet\, Beamer etc schnell miteinander verbinden\, wo werden Dateien sinnvoll abgelegt\n\n\nDienstag\, 27. Juni 2023\nBilderbuchkinos mit der APP Puppet Pals kreieren \nMit der App Puppet Pals können kurze Trickfilme mit verschiedenen Figuren vor unterschiedlichen Hintergründen erstellt werden. Die Geschichten erfinden die Kinder. Dazu können Texte aufgenommen werden. Es wird mit der kostenpflichtigen iPad App Puppet Pals gearbeitet.\n\n\nDienstag\, 29. August 2023\nPortfolio mit dem Book-Creator \nBilder\, Audiodateien\, Filme oder Zeichnungen können einfach frei auf der Seite platziert werden. Bilder und Fotos von Bastelarbeiten der Kinder können auf die Buchseiten gestellt werden.\n\n\nDienstag\, 26. September 2023\nErklärvideos erstellen \nErklär die Welt mit Erklärvideos: wie kann ich etwas jemandem beschreiben und es immer und jederzeit bereithalten. Es wird mit der Kamera-APP gearbeitet\,  selbst gestaltete Texte werden auf Tischen geschoben und dazu gesprochen.\n\n\nDienstag\, 7. November 2023\nGeräusche- Werkstatt \nWelches Geräusch bist du? Wir wollen ein lebendiges Hörspiel erstellen. Geräusche und auch die Musik sind wesentliche Punkte beim Erstellen.\n\n\n\n 
URL:https://www.aboee.de/veranstaltung/projekt-inge-qualifizierungsreihe-medienbildung-in-der-kita-2/
LOCATION:Alte Schule Falkenberg\, Falkenberger Landstraße 67\, 28865 Lilienthal\, 28865\, Deutschland
CATEGORIES:InGe
ORGANIZER;CN="Projekt InGe":MAILTO:projekt.inge@lilienthal.de
END:VEVENT
BEGIN:VEVENT
DTSTART;TZID=Europe/Berlin:20230426T153000
DTEND;TZID=Europe/Berlin:20230426T190000
DTSTAMP:20260423T230736
CREATED:20230118T113647Z
LAST-MODIFIED:20230118T113647Z
UID:1342-1682523000-1682535600@www.aboee.de
SUMMARY:Projekt InGe: Qualifizierungsreihe "Kommunikation als Schlüssel zur Teilhabe"
DESCRIPTION:Von Februar bis Dezember 2023 findet die 9-teilige Qualifizierungsreihe „Kommunikation als Schlüssel zur Teilhabe“ für pädagogische Fachkräfte in Kita und Schule statt. Mit unterschiedlichen Schwerpunkten wird die Kommunikation mit Kindern\, Eltern und im Team unter Begleitung von fachlich versierten Referent*innen praxisnah bearbeitet. Das Spektrum umfasst Grundlagen zu gewaltfreier\, interkultureller\, diversitätsbewusster und visualisierter Kommunikation\, zur dialogischen Haltung und zur Einfachen Sprache. Es sollten möglichst alle Module besucht werden\, die Buchung von einzelnen Teilen des Angebots ist aber ebenfalls möglich. Bitte melden Sie sich mit dem ausgefüllten und unterschriebenen InGe Anmeldebogen per mail unter projekt.inge@lilienthal verbindlich unter Nennung der Module an.\nAlle Module finden von 15.30 Uhr bis 19.00 Uhr in der Alten Schule Falkenberg in Lilienthal statt \nModul 1: Grundlagen der Kommunikation (22.02.2023)\nModul 2 -4: Gewaltfreie Kommunikation (mit Kindern\, mit Eltern\, im Team) (21.03.2023 / 26.04.2023 / 23.05.2023)\nModul 5: Einfache Sprache (22.06.2023)\nModul 6: Interkulturelle Kommunikation (23.08.2023)\nModul 7: Diversitätsbewusste Kommunikation (20.09.2023)\nModul 8: Visualisierte Kommunikation (08.11.2023)\nModul 9: Dialogische Haltung (12.12.2023)
URL:https://www.aboee.de/veranstaltung/projekt-inge-qualifizierungsreihe-kommunikation-als-schluessel-zur-teilhabe-3/
LOCATION:Alte Schule Falkenberg\, Falkenberger Landstraße 67\, 28865 Lilienthal\, 28865\, Deutschland
CATEGORIES:InGe
ORGANIZER;CN="Projekt InGe":MAILTO:projekt.inge@lilienthal.de
END:VEVENT
END:VCALENDAR