BEGIN:VCALENDAR
VERSION:2.0
PRODID:-//ABÖE e.V. - ECPv6.15.11//NONSGML v1.0//EN
CALSCALE:GREGORIAN
METHOD:PUBLISH
X-ORIGINAL-URL:https://www.aboee.de
X-WR-CALDESC:Veranstaltungen für ABÖE e.V.
REFRESH-INTERVAL;VALUE=DURATION:PT1H
X-Robots-Tag:noindex
X-PUBLISHED-TTL:PT1H
BEGIN:VTIMEZONE
TZID:Europe/Berlin
BEGIN:DAYLIGHT
TZOFFSETFROM:+0100
TZOFFSETTO:+0200
TZNAME:CEST
DTSTART:20210328T010000
END:DAYLIGHT
BEGIN:STANDARD
TZOFFSETFROM:+0200
TZOFFSETTO:+0100
TZNAME:CET
DTSTART:20211031T010000
END:STANDARD
BEGIN:DAYLIGHT
TZOFFSETFROM:+0100
TZOFFSETTO:+0200
TZNAME:CEST
DTSTART:20220327T010000
END:DAYLIGHT
BEGIN:STANDARD
TZOFFSETFROM:+0200
TZOFFSETTO:+0100
TZNAME:CET
DTSTART:20221030T010000
END:STANDARD
BEGIN:DAYLIGHT
TZOFFSETFROM:+0100
TZOFFSETTO:+0200
TZNAME:CEST
DTSTART:20230326T010000
END:DAYLIGHT
BEGIN:STANDARD
TZOFFSETFROM:+0200
TZOFFSETTO:+0100
TZNAME:CET
DTSTART:20231029T010000
END:STANDARD
END:VTIMEZONE
BEGIN:VEVENT
DTSTART;TZID=Europe/Berlin:20220518T153000
DTEND;TZID=Europe/Berlin:20220518T190000
DTSTAMP:20260424T154510
CREATED:20210203T133926Z
LAST-MODIFIED:20210203T133926Z
UID:854-1652887800-1652900400@www.aboee.de
SUMMARY:Projekt InGe: Modulreihe: "Kommunikation als Schlüssel zur Teilhabe"
DESCRIPTION:Von März 2021 bis Mai 2022 bieten für pädagogische Fachkräfte eine 9-modulige Fortbildungsreihe zum Thema „Kommunikation als Schlüssel zur Teilhabe“ an. Die Module können nur zusammen besucht werden. Sie finden jeweils am Mittwoch von 15.30 – 19.00 Uhr in Murkens Hof in Lilienthal statt. \nModul 1: Grundlagen der Kommunikation\nModul 2 – 4: Gewaltfreie Kommunikation (mit Kindern / mit Eltern / im Team)\nModul 5: Interkulturelle Kommunikation\nModul 6: Diversitätsbewusste Kommunikation\nModul 7: Dialogische Haltung\nModul 8: Einfache Sprache\nModul 9: Visualisierte Kommunikation \nWeitere Informationen unter Telefon 04298 – 929-243.
URL:https://www.aboee.de/veranstaltung/projekt-inge-modulreihe-kommunikation-als-schluessel-zur-teilhabe-9/
LOCATION:vhs Lilienthal\, Klosterstr.25\, Lilienthal\, 28865\, Deutschland
CATEGORIES:InGe
END:VEVENT
END:VCALENDAR