BEGIN:VCALENDAR
VERSION:2.0
PRODID:-//ABÖE e.V. - ECPv6.15.11//NONSGML v1.0//EN
CALSCALE:GREGORIAN
METHOD:PUBLISH
X-WR-CALNAME:ABÖE e.V.
X-ORIGINAL-URL:https://www.aboee.de
X-WR-CALDESC:Veranstaltungen für ABÖE e.V.
REFRESH-INTERVAL;VALUE=DURATION:PT1H
X-Robots-Tag:noindex
X-PUBLISHED-TTL:PT1H
BEGIN:VTIMEZONE
TZID:Europe/Berlin
BEGIN:DAYLIGHT
TZOFFSETFROM:+0100
TZOFFSETTO:+0200
TZNAME:CEST
DTSTART:20200329T010000
END:DAYLIGHT
BEGIN:STANDARD
TZOFFSETFROM:+0200
TZOFFSETTO:+0100
TZNAME:CET
DTSTART:20201025T010000
END:STANDARD
BEGIN:DAYLIGHT
TZOFFSETFROM:+0100
TZOFFSETTO:+0200
TZNAME:CEST
DTSTART:20210328T010000
END:DAYLIGHT
BEGIN:STANDARD
TZOFFSETFROM:+0200
TZOFFSETTO:+0100
TZNAME:CET
DTSTART:20211031T010000
END:STANDARD
BEGIN:DAYLIGHT
TZOFFSETFROM:+0100
TZOFFSETTO:+0200
TZNAME:CEST
DTSTART:20220327T010000
END:DAYLIGHT
BEGIN:STANDARD
TZOFFSETFROM:+0200
TZOFFSETTO:+0100
TZNAME:CET
DTSTART:20221030T010000
END:STANDARD
END:VTIMEZONE
BEGIN:VEVENT
DTSTART;TZID=Europe/Berlin:20211110T153000
DTEND;TZID=Europe/Berlin:20211110T190000
DTSTAMP:20260425T013609
CREATED:20210203T133329Z
LAST-MODIFIED:20210203T133329Z
UID:848-1636558200-1636570800@www.aboee.de
SUMMARY:Projekt InGe: Modulreihe: "Kommunikation als Schlüssel zur Teilhabe"
DESCRIPTION:Von März 2021 bis Mai 2022 bieten für pädagogische Fachkräfte eine 9-modulige Fortbildungsreihe zum Thema „Kommunikation als Schlüssel zur Teilhabe“ an. Die Module können nur zusammen besucht werden. Sie finden jeweils am Mittwoch von 15.30 – 19.00 Uhr in Murkens Hof in Lilienthal statt. \nModul 1: Grundlagen der Kommunikation\nModul 2 – 4: Gewaltfreie Kommunikation (mit Kindern / mit Eltern / im Team)\nModul 5: Interkulturelle Kommunikation\nModul 6: Diversitätsbewusste Kommunikation\nModul 7: Dialogische Haltung\nModul 8: Einfache Sprache\nModul 9: Visualisierte Kommunikation \nWeitere Informationen unter Telefon 04298 – 929-243.
URL:https://www.aboee.de/veranstaltung/projekt-inge-modulreihe-kommunikation-als-schluessel-zur-teilhabe-6/
LOCATION:vhs Lilienthal\, Klosterstr.25\, Lilienthal\, 28865\, Deutschland
CATEGORIES:InGe
ORGANIZER;CN="Projekt InGe":MAILTO:projekt.inge@lilienthal.de
END:VEVENT
BEGIN:VEVENT
DTSTART;TZID=Europe/Berlin:20211113T093000
DTEND;TZID=Europe/Berlin:20211113T160000
DTSTAMP:20260425T013609
CREATED:20210603T102832Z
LAST-MODIFIED:20210902T084045Z
UID:1063-1636795800-1636819200@www.aboee.de
SUMMARY:Projekt InGe: Workshop: "Für mich sind alle Kinder gleich!" - Diskriminierungsbewusstsein in Kita und Grundschule
DESCRIPTION:Workshop für pädagogische Fachkräfte und Lehrpersonal in Kita und Grundschule.\nFür eine diversitätsbewusste Pädagogik ist es wichtig\, persönliche Haltungen zu überprüfen und zu reflektieren. Im Workshop wird neben dem fachlichen Input die eigene Sensibilität durch Übungen geschult. Beispielhaft werden Materialien analysiert\, Lösungen für konflikthafte Situationen erarbeitet und positive Ansätze für einen diversitätsbewussten pädagogischen Alltag vorgestellt\, um ein grundsätzliches Bewusstsein für mögliche Fallstricke zu schaffen. Positive Gegenbeispiele\, Materialien und Rituale werden für den eigenen Alltag transferiert. Das Ziel ist\, Diskriminierung im pädagogischen Alltag aktiv entgegenwirken zu können.\nReferentin: Christiane Lenhard\, Interkulturelle Trainerin
URL:https://www.aboee.de/veranstaltung/projekt-inge-workshop-fuer-mich-sind-alle-kinder-gleich-diskriminierungsbewusstsein-in-kita-und-grundschule/
LOCATION:vhs Lilienthal\, Klosterstr.25\, Lilienthal\, 28865\, Deutschland
CATEGORIES:InGe
ORGANIZER;CN="Projekt InGe":MAILTO:projekt.inge@lilienthal.de
END:VEVENT
END:VCALENDAR