BEGIN:VCALENDAR
VERSION:2.0
PRODID:-//ABÖE e.V. - ECPv6.15.11//NONSGML v1.0//EN
CALSCALE:GREGORIAN
METHOD:PUBLISH
X-ORIGINAL-URL:https://www.aboee.de
X-WR-CALDESC:Veranstaltungen für ABÖE e.V.
REFRESH-INTERVAL;VALUE=DURATION:PT1H
X-Robots-Tag:noindex
X-PUBLISHED-TTL:PT1H
BEGIN:VTIMEZONE
TZID:Europe/Berlin
BEGIN:DAYLIGHT
TZOFFSETFROM:+0100
TZOFFSETTO:+0200
TZNAME:CEST
DTSTART:20200329T010000
END:DAYLIGHT
BEGIN:STANDARD
TZOFFSETFROM:+0200
TZOFFSETTO:+0100
TZNAME:CET
DTSTART:20201025T010000
END:STANDARD
BEGIN:DAYLIGHT
TZOFFSETFROM:+0100
TZOFFSETTO:+0200
TZNAME:CEST
DTSTART:20210328T010000
END:DAYLIGHT
BEGIN:STANDARD
TZOFFSETFROM:+0200
TZOFFSETTO:+0100
TZNAME:CET
DTSTART:20211031T010000
END:STANDARD
BEGIN:DAYLIGHT
TZOFFSETFROM:+0100
TZOFFSETTO:+0200
TZNAME:CEST
DTSTART:20220327T010000
END:DAYLIGHT
BEGIN:STANDARD
TZOFFSETFROM:+0200
TZOFFSETTO:+0100
TZNAME:CET
DTSTART:20221030T010000
END:STANDARD
END:VTIMEZONE
BEGIN:VEVENT
DTSTART;TZID=Europe/Berlin:20210429T140000
DTEND;TZID=Europe/Berlin:20210429T180000
DTSTAMP:20260425T132034
CREATED:20210330T104138Z
LAST-MODIFIED:20210330T105246Z
UID:896-1619704800-1619719200@www.aboee.de
SUMMARY:Projekt InGe: Workshop: "Geschlechtliche Vielfalt und sexuelle Orientierung in Kita und Schule"
DESCRIPTION:Workshop für pädagogische Fachkräfte in Kita und Schule.\nDer Umgang mit Vielfalt ist Herausforderung und Auftrag für Einrichtungen der frühkindlichen Bildung. Die Themen Geschlechtervielfalt und sexuelle Orientierung gehören in die Kita- und Schulpraxis und sollen mit Kindern thematisiert werden. In diesem praktisch orientierten Workshop geht es zunächst um theoretisches Grundwissen. Was verbirgt sich hinter LSBQT*? Was ist der Unterschied zwischen Trans- und Intergeschlechtlichkeit? Welche vielfältigen Lebensformen und Familienkonstellationen gibt es? Nach einer Klärung wichtiger Begriffe geht es um einen inklusiven Umgang mit sozialer Vielfalt in pädagogischen Einrichtungen wie Kita und Schule und konkrete Handlungsmöglichkeiten\, wie pädagogische Fachkräfte die Wahrnehmung von Geschlechter- und Familienvielfalt unterstützen können. Gern können auch eigene Beispiele aus der Praxis eingebracht werden.\nHier geht es zur Anmeldung
URL:https://www.aboee.de/veranstaltung/projekt-inge-workshop-geschlechtliche-vielfalt-und-sexuelle-orientierung-in-kita-und-schule/
LOCATION:Rathaus Grasberg\, Speckmannstr. 30\, Grasberg\, 28879\, Deutschland
CATEGORIES:InGe
ORGANIZER;CN="Projekt InGe":MAILTO:projekt.inge@lilienthal.de
END:VEVENT
END:VCALENDAR