BEGIN:VCALENDAR
VERSION:2.0
PRODID:-//ABÖE e.V. - ECPv6.15.11//NONSGML v1.0//EN
CALSCALE:GREGORIAN
METHOD:PUBLISH
X-ORIGINAL-URL:https://www.aboee.de
X-WR-CALDESC:Veranstaltungen für ABÖE e.V.
REFRESH-INTERVAL;VALUE=DURATION:PT1H
X-Robots-Tag:noindex
X-PUBLISHED-TTL:PT1H
BEGIN:VTIMEZONE
TZID:Europe/Berlin
BEGIN:DAYLIGHT
TZOFFSETFROM:+0100
TZOFFSETTO:+0200
TZNAME:CEST
DTSTART:20200329T010000
END:DAYLIGHT
BEGIN:STANDARD
TZOFFSETFROM:+0200
TZOFFSETTO:+0100
TZNAME:CET
DTSTART:20201025T010000
END:STANDARD
BEGIN:DAYLIGHT
TZOFFSETFROM:+0100
TZOFFSETTO:+0200
TZNAME:CEST
DTSTART:20210328T010000
END:DAYLIGHT
BEGIN:STANDARD
TZOFFSETFROM:+0200
TZOFFSETTO:+0100
TZNAME:CET
DTSTART:20211031T010000
END:STANDARD
BEGIN:DAYLIGHT
TZOFFSETFROM:+0100
TZOFFSETTO:+0200
TZNAME:CEST
DTSTART:20220327T010000
END:DAYLIGHT
BEGIN:STANDARD
TZOFFSETFROM:+0200
TZOFFSETTO:+0100
TZNAME:CET
DTSTART:20221030T010000
END:STANDARD
END:VTIMEZONE
BEGIN:VEVENT
DTSTART;TZID=Europe/Berlin:20210306T093000
DTEND;TZID=Europe/Berlin:20210306T153000
DTSTAMP:20260425T150137
CREATED:20210203T135023Z
LAST-MODIFIED:20210203T135436Z
UID:858-1615023000-1615044600@www.aboee.de
SUMMARY:Projekt InGe: Qualifizierungsreihe: "Die Schulassistenz in der inklusiven Schule" Teil 2
DESCRIPTION:Von Februar bis Mai 2021 führen wir eine Qualifizierungsreihe für Schulassistenzen durch. Weitere Informationen erhalten Sie unter 04298 – 929 243.
URL:https://www.aboee.de/veranstaltung/projekt-inge-qualifizierungsreihe-die-schulassistenz-in-der-inklusiven-schule-2/
LOCATION:vhs Lilienthal\, Klosterstr.25\, Lilienthal\, 28865\, Deutschland
CATEGORIES:InGe
ORGANIZER;CN="Projekt InGe":MAILTO:projekt.inge@lilienthal.de
END:VEVENT
BEGIN:VEVENT
DTSTART;TZID=Europe/Berlin:20210317T150000
DTEND;TZID=Europe/Berlin:20210317T180000
DTSTAMP:20260425T150137
CREATED:20210107T132823Z
LAST-MODIFIED:20210107T133312Z
UID:748-1615993200-1616004000@www.aboee.de
SUMMARY:Projekt InGe: Modulreihe: Prozesse begleiten in Einrichtungen der frühkindlichen Bildung und im Elementarbereich
DESCRIPTION:Angebot für Leitungskräfte und stellvertretende Leitungskräfte in Kitas und Schulen. Ausgrenzung und Vorurteile belasten Kinder und Familien sehr und erschweren die Teilhabe und Teilgabe an Bildung und am gesellschaftlichen Leben. Diese Qualifizierungsreihe soll Leitungskräften und stellvertretenden Leitungskräften Unterstützung und Begleitung bieten\, die eigene Praxis in Kita und Schule zu beleuchten. Ziel ist es\, eine inklusive Entwicklung der Einrichtung umzusetzen\, um Ausgrenzung zu reduzieren und Barrieren zu Bildung\, Freizeit und Kultur zu minimieren. Unterstützend wird die Handreichung „Index für Inklusion“ eingesetzt. Termine: 17.03.2021\, 16.06.2021\, 22.09.2021\, 08.12.2021\, 16.03.2022\, 11.05.2022\, jeweils mittwochs in der Zeit von 15.00 – 18.00 Uhr. Eine Anmeldung ist nur für alle Termine möglich. Die Gruppe wird moderiert von Katja Pötzsch-Martin\, Supervisorin für Teams\, Gruppen und Einzelpersonen\, Beteiligungsprozesse und Teamentwicklung.\nHier geht es zur Anmeldung
URL:https://www.aboee.de/veranstaltung/projekt-inge-modulreihe-prozesse-begleiten-in-einrichtungen-der-fruehkindlichen-bildung-und-im-elementarbereich/
LOCATION:vhs Lilienthal\, Klosterstr.25\, Lilienthal\, 28865\, Deutschland
CATEGORIES:InGe
ORGANIZER;CN="Projekt InGe":MAILTO:projekt.inge@lilienthal.de
END:VEVENT
BEGIN:VEVENT
DTSTART;TZID=Europe/Berlin:20210324T153000
DTEND;TZID=Europe/Berlin:20210324T190000
DTSTAMP:20260425T150137
CREATED:20210203T132155Z
LAST-MODIFIED:20210203T132155Z
UID:840-1616599800-1616612400@www.aboee.de
SUMMARY:Projekt InGe: Modulreihe: "Kommunikation als Schlüssel zur Teilhabe"
DESCRIPTION:Von März 2021 bis Mai 2022 bieten für pädagogische Fachkräfte eine 9-modulige Fortbildungsreihe zum Thema „Kommunikation als Schlüssel zur Teilhabe“ an. Die Module können nur zusammen besucht werden. Sie finden jeweils am Mittwoch von 15.30 – 19.00 Uhr in Murkens Hof in Lilienthal statt. \nModul 1: Grundlagen der Kommunikation\nModul 2 – 4: Gewaltfreie Kommunikation (mit Kindern / mit Eltern / im Team)\nModul 5: Interkulturelle Kommunikation\nModul 6: Diversitätsbewusste Kommunikation\nModul 7: Dialogische Haltung\nModul 8: Einfache Sprache\nModul 9: Visualisierte Kommunikation \nWeitere Informationen unter Telefon 04298 – 929-243.
URL:https://www.aboee.de/veranstaltung/projekt-inge-modulreihe-kommunikation-als-schluessel-zur-teilhabe-2/
LOCATION:vhs Lilienthal\, Klosterstr.25\, Lilienthal\, 28865\, Deutschland
CATEGORIES:InGe
ORGANIZER;CN="Projekt InGe":MAILTO:projekt.inge@lilienthal.de
END:VEVENT
END:VCALENDAR