BEGIN:VCALENDAR
VERSION:2.0
PRODID:-//ABÖE e.V. - ECPv6.15.11//NONSGML v1.0//EN
CALSCALE:GREGORIAN
METHOD:PUBLISH
X-WR-CALNAME:ABÖE e.V.
X-ORIGINAL-URL:https://www.aboee.de
X-WR-CALDESC:Veranstaltungen für ABÖE e.V.
REFRESH-INTERVAL;VALUE=DURATION:PT1H
X-Robots-Tag:noindex
X-PUBLISHED-TTL:PT1H
BEGIN:VTIMEZONE
TZID:Europe/Berlin
BEGIN:DAYLIGHT
TZOFFSETFROM:+0100
TZOFFSETTO:+0200
TZNAME:CEST
DTSTART:20200329T010000
END:DAYLIGHT
BEGIN:STANDARD
TZOFFSETFROM:+0200
TZOFFSETTO:+0100
TZNAME:CET
DTSTART:20201025T010000
END:STANDARD
BEGIN:DAYLIGHT
TZOFFSETFROM:+0100
TZOFFSETTO:+0200
TZNAME:CEST
DTSTART:20210328T010000
END:DAYLIGHT
BEGIN:STANDARD
TZOFFSETFROM:+0200
TZOFFSETTO:+0100
TZNAME:CET
DTSTART:20211031T010000
END:STANDARD
BEGIN:DAYLIGHT
TZOFFSETFROM:+0100
TZOFFSETTO:+0200
TZNAME:CEST
DTSTART:20220327T010000
END:DAYLIGHT
BEGIN:STANDARD
TZOFFSETFROM:+0200
TZOFFSETTO:+0100
TZNAME:CET
DTSTART:20221030T010000
END:STANDARD
END:VTIMEZONE
BEGIN:VEVENT
DTSTART;TZID=Europe/Berlin:20210204T160000
DTEND;TZID=Europe/Berlin:20210204T180000
DTSTAMP:20260425T162808
CREATED:20210203T124238Z
LAST-MODIFIED:20210203T130627Z
UID:825-1612454400-1612461600@www.aboee.de
SUMMARY:Projekt InGe - Online-Workshop: "DiKlusion - Digitale Medien für den Unterricht in heterogenen Gruppen"
DESCRIPTION:„DiKlusion“ ist eine Wortschöpfung von Dr. Lea Schulz\, mit der sie die Zusammenführung der Themen „digitale Medien“ und „Inklusion“ als ein Konglomerat beschreibt. „DiKlusion“ beschreibt in einem Wort\, dass der Umgang\, Einsatz und die Nutzung digitaler Medien im Unterricht immer gleichzeitig mit dem Aspekt der Inklusion von allen Kindern und Jugendlichen gedacht werden muss. Beide Bereiche bedingen sich und können voneinander profitieren.\nEine gelungene Verbindung dieser beiden Themen erhält besonders im schulischen Umfeld aktuell hohe Bedeutung\, um allen Kindern und Jugendlichen einen passgenauen Unterricht bieten zu können. Ein „diKlusiver“ Unterricht wird jedoch auch in Nach-Corona-Zeiten viele Ressourcen besser nutzen als derzeit.\nDie Referentin Dr. Lea Schulz ist Studienleiterin am Institut für Qualitätsentwicklung für Schulen in Schleswig-Holstein und dort verantwortlich für den Fachbereich Digitale Medien und Inklusion in der Aus- und Fortbildung. Mit dem Thema „DiKlusion“ ist sie Europaweit entscheidend an der notwendigen inhaltlichen Diskussion beteiligt\, wie zukünftig schulische Inhalte und digitale Medien so verzahnt werden können\, dass die Teilhabe aller Schüler*innen gewährleistet und ausgebaut wird.\nIn ihrem Online-Vortrag mit anschließender Diskussionsmöglichkeit wird sie u.a. viele praktische Beispiele für einen gelungenen inklusiven Einsatz von digitalen Medien vorstellen.\nHier geht es zur Anmeldung
URL:https://www.aboee.de/veranstaltung/projekt-inge-digitaler-workshop-diklusion-digitale-medien-fuer-den-unterricht-in-heterogenen-gruppen/
CATEGORIES:InGe
END:VEVENT
BEGIN:VEVENT
DTSTART;TZID=Europe/Berlin:20210208T153000
DTEND;TZID=Europe/Berlin:20210208T173000
DTSTAMP:20260425T162808
CREATED:20210203T125439Z
LAST-MODIFIED:20210203T125806Z
UID:829-1612798200-1612805400@www.aboee.de
SUMMARY:Projekt InGe: Online-Workshop: "Teamarbeit in herausfordernden Zeiten. Was macht Corona mit dem Team? Teil 1"
DESCRIPTION:Aktuell befinden Kitas und Schulen sich wieder in einer Ausnahmesituation. Schul- und Kitaschließung\, Notbetreuung\, Kolleg*innen im Homeoffice\, dies alles wirkt sich auf die Zusammenarbeit im Team aus. Für Leitungskräfte ist dies eine große Herausforderung neben der Notwendigkeit\, den Laden am Laufen zu halten.\nEinige Kolleg*innen arbeiten im Homeoffice\, da sie zu den Risikogruppen gehören\, andere sind möglicherweise in Quarantäne oder auch erkrankt. Es gibt viel Fragen und Ängste\, die das Team beschäftigt.\nDiese Veränderungen und Erkenntnisse systematisch zu reflektieren und daraus Schlüsse für eine bessere und bewusstere Teamzusammenarbeit zu ziehen\, ist eine Chance\, die Sie nicht ungenützt lassen sollten.In diesem zweiteiligen Online-Workshop geht es neben dem kollegialen Austausch auch um Handlungsstrategien im Umgang mit der besonderen Situation. Was macht Corona mit dem Team? Welche Veränderungen nehmen wir wahr? Wie können wir uns gegenseitig unterstützen?\nDer Online-Workshop wird durchgeführt von Katja Pötzsch-Martin\, Supervisorin für Teams\, Gruppen und Einzelpersonen\, Teamentwicklung aus Oldenburg. \nDer zweite Teil des Workshops findet am 15.2.2021 von 15.30 – 17.30 Uhr statt. Beide Workshop-Teile können nur zusammen gebucht werden. Hier geht es zur Anmeldung
URL:https://www.aboee.de/veranstaltung/projekt-inge-online-workshop-teamarbeit-in-herausfordernden-zeiten-was-macht-corona-mit-dem-team-teil-1/
CATEGORIES:InGe
END:VEVENT
BEGIN:VEVENT
DTSTART;TZID=Europe/Berlin:20210212T150000
DTEND;TZID=Europe/Berlin:20210212T163000
DTSTAMP:20260425T162808
CREATED:20210107T141450Z
LAST-MODIFIED:20210107T141450Z
UID:755-1613142000-1613147400@www.aboee.de
SUMMARY:Projekt InGe: Online-Reihe: Die Zusammenarbeit mit Eltern und Familien online gestalten
DESCRIPTION:Für pädagogische Fachkräfte in Kita und Schule. Elternabende und Elterngespräche sind ein wichtiger Teil der Arbeit in den Kitas und Schulen. In den letzten Monaten war es schwierig\, diese Angebote durchzuführen. Bis wieder unter den alten Bedingungen Veranstaltungen durchgeführt werden können\, wird sicherlich noch einige Zeit ins Land gehen. Darüber hinaus gibt es viele weitere Gründe\, sich mit der digitalen Zusammenarbeit mit Eltern auseinanderzusetzen. Elternabende und Elterngespräche finden häufig außerhalb der Betreuungszeiten statt. Dies ist für manche Eltern schwierig umzusetzen – sei es\, dass keine Fahrmöglichkeit am Abend oder keine Betreuung für die Kinder zur Verfügung steht.\nDie Veranstaltung wird über unsere Online-Plattform ecosero durchgeführt. Für die Teilnahme wird ein PC\, Laptop\, Tablet oder Handy mit Kamera und Mikrofon\, eine stabile Internetverbindung\, einen aktuellen Browser (Microsoft Edge\, Google Chrome\, Firefox\, Safari) benötigt. Der dritte Teil der Veranstaltung findet am 26.2.2021 statt.\nHier geht es zur Anmeldung
URL:https://www.aboee.de/veranstaltung/projekt-inge-online-reihe-die-zusammenarbeit-mit-eltern-und-familien-online-gestalten-2/
CATEGORIES:InGe
ORGANIZER;CN="Projekt InGe":MAILTO:projekt.inge@lilienthal.de
END:VEVENT
BEGIN:VEVENT
DTSTART;TZID=Europe/Berlin:20210215T153000
DTEND;TZID=Europe/Berlin:20210215T173000
DTSTAMP:20260425T162808
CREATED:20210203T130037Z
LAST-MODIFIED:20210203T130354Z
UID:834-1613403000-1613410200@www.aboee.de
SUMMARY:Projekt InGe: Online-Workshop: "Teamarbeit in herausfordernden Zeiten. Was macht Corona mit dem Team? Teil 2"
DESCRIPTION:Aktuell befinden Kitas und Schulen sich wieder in einer Ausnahmesituation. Schul- und Kitaschließung\, Notbetreuung\, Kolleg*innen im Homeoffice\, dies alles wirkt sich auf die Zusammenarbeit im Team aus. Für Leitungskräfte ist dies eine große Herausforderung neben der Notwendigkeit\, den Laden am Laufen zu halten.\nEinige Kolleg*innen arbeiten im Homeoffice\, da sie zu den Risikogruppen gehören\, andere sind möglicherweise in Quarantäne oder auch erkrankt. Es gibt viel Fragen und Ängste\, die das Team beschäftigt.\nDiese Veränderungen und Erkenntnisse systematisch zu reflektieren und daraus Schlüsse für eine bessere und bewusstere Teamzusammenarbeit zu ziehen\, ist eine Chance\, die Sie nicht ungenützt lassen sollten.In diesem zweiteiligen Online-Workshop geht es neben dem kollegialen Austausch auch um Handlungsstrategien im Umgang mit der besonderen Situation. Was macht Corona mit dem Team? Welche Veränderungen nehmen wir wahr? Wie können wir uns gegenseitig unterstützen?\nDer Online-Workshop wird durchgeführt von Katja Pötzsch-Martin\, Supervisorin für Teams\, Gruppen und Einzelpersonen\, Teamentwicklung aus Oldenburg. \nDer erste Teil des Workshops fand am 8.2.2021 statt. Beide Workshop-Teile können nur zusammen gebucht werden.
URL:https://www.aboee.de/veranstaltung/834/
CATEGORIES:InGe
END:VEVENT
BEGIN:VEVENT
DTSTART;TZID=Europe/Berlin:20210220T093000
DTEND;TZID=Europe/Berlin:20210220T153000
DTSTAMP:20260425T162808
CREATED:20210203T134802Z
LAST-MODIFIED:20210203T135357Z
UID:856-1613813400-1613835000@www.aboee.de
SUMMARY:Projekt InGe: Qualifizierungsreihe: "Die Schulassistenz in der inklusiven Schule" Teil 1
DESCRIPTION:Von Februar bis Mai 2021 führen wir eine Qualifizierungsreihe für Schulassistenzen durch. Weitere Informationen erhalten Sie unter 04298 – 929 243.
URL:https://www.aboee.de/veranstaltung/projekt-inge-qualifizierungsreihe-die-schulassistenz-in-der-inklusiven-schule/
LOCATION:vhs Lilienthal\, Klosterstr.25\, Lilienthal\, 28865\, Deutschland
CATEGORIES:InGe
ORGANIZER;CN="Projekt InGe":MAILTO:projekt.inge@lilienthal.de
END:VEVENT
BEGIN:VEVENT
DTSTART;TZID=Europe/Berlin:20210226T150000
DTEND;TZID=Europe/Berlin:20210226T163000
DTSTAMP:20260425T162808
CREATED:20210107T141902Z
LAST-MODIFIED:20210107T141902Z
UID:757-1614351600-1614357000@www.aboee.de
SUMMARY:Projekt InGe: Online-Reihe: Die Zusammenarbeit mit Eltern und Familien online gestalten
DESCRIPTION:Für pädagogische Fachkräfte in Kita und Schule. Elternabende und Elterngespräche sind ein wichtiger Teil der Arbeit in den Kitas und Schulen. In den letzten Monaten war es schwierig\, diese Angebote durchzuführen. Bis wieder unter den alten Bedingungen Veranstaltungen durchgeführt werden können\, wird sicherlich noch einige Zeit ins Land gehen. Darüber hinaus gibt es viele weitere Gründe\, sich mit der digitalen Zusammenarbeit mit Eltern auseinanderzusetzen. Elternabende und Elterngespräche finden häufig außerhalb der Betreuungszeiten statt. Dies ist für manche Eltern schwierig umzusetzen – sei es\, dass keine Fahrmöglichkeit am Abend oder keine Betreuung für die Kinder zur Verfügung steht.\nDie Veranstaltung wird über unsere Online-Plattform ecosero durchgeführt. Für die Teilnahme wird ein PC\, Laptop\, Tablet oder Handy mit Kamera und Mikrofon\, eine stabile Internetverbindung\, einen aktuellen Browser (Microsoft Edge\, Google Chrome\, Firefox\, Safari) benötigt. Hier geht es zur Anmeldung
URL:https://www.aboee.de/veranstaltung/projekt-inge-online-reihe-die-zusammenarbeit-mit-eltern-und-familien-online-gestalten-3/
CATEGORIES:InGe
ORGANIZER;CN="Projekt InGe":MAILTO:projekt.inge@lilienthal.de
END:VEVENT
END:VCALENDAR