BEGIN:VCALENDAR
VERSION:2.0
PRODID:-//ABÖE e.V. - ECPv6.15.11//NONSGML v1.0//EN
CALSCALE:GREGORIAN
METHOD:PUBLISH
X-ORIGINAL-URL:https://www.aboee.de
X-WR-CALDESC:Veranstaltungen für ABÖE e.V.
REFRESH-INTERVAL;VALUE=DURATION:PT1H
X-Robots-Tag:noindex
X-PUBLISHED-TTL:PT1H
BEGIN:VTIMEZONE
TZID:Europe/Berlin
BEGIN:DAYLIGHT
TZOFFSETFROM:+0100
TZOFFSETTO:+0200
TZNAME:CEST
DTSTART:20200329T010000
END:DAYLIGHT
BEGIN:STANDARD
TZOFFSETFROM:+0200
TZOFFSETTO:+0100
TZNAME:CET
DTSTART:20201025T010000
END:STANDARD
BEGIN:DAYLIGHT
TZOFFSETFROM:+0100
TZOFFSETTO:+0200
TZNAME:CEST
DTSTART:20210328T010000
END:DAYLIGHT
BEGIN:STANDARD
TZOFFSETFROM:+0200
TZOFFSETTO:+0100
TZNAME:CET
DTSTART:20211031T010000
END:STANDARD
BEGIN:DAYLIGHT
TZOFFSETFROM:+0100
TZOFFSETTO:+0200
TZNAME:CEST
DTSTART:20220327T010000
END:DAYLIGHT
BEGIN:STANDARD
TZOFFSETFROM:+0200
TZOFFSETTO:+0100
TZNAME:CET
DTSTART:20221030T010000
END:STANDARD
END:VTIMEZONE
BEGIN:VEVENT
DTSTART;TZID=Europe/Berlin:20210127T153000
DTEND;TZID=Europe/Berlin:20210127T190000
DTSTAMP:20260425T175227
CREATED:20200924T131431Z
LAST-MODIFIED:20210107T142130Z
UID:666-1611761400-1611774000@www.aboee.de
SUMMARY:Projekt InGe: Modulreihe: Kommunikation als Schlüssel zur Teilhabe
DESCRIPTION:Qualifizierung für pädagogische Fachkräfte in Kita und Schule. Im Fokus stehen neben den Grundlagen von Kommunikation u.a. die dialogische Haltung\, einfache Sprache sowie interkulturelle\, diversitätssensible\, visualisierte und gewaltfreie Kommunikation. Die Qualifizierung bietet Ihnen die Möglichkeit die eigenen Kommunikationskompetenzen zu erweitern\, um Anliegen so zu formulieren\, dass sich niemand verletzt oder angegriffen fühlt. Die Module können nur zusammen besucht werden. Sie finden jeweils am Mittwoch von 15.30 – 19.00 Uhr in Murkens Hof in Lilienthal statt. Termine: 27.01.2021\, 24.03.2021\, 19.05.2021\, 14.07.2021\, 15.09.2021\, 10.11.2021\, 19.01.2022\, 23.03.2022\, 18.05.2022. Anmeldung erforderlich. Hier geht es zur Anmeldung
URL:https://www.aboee.de/veranstaltung/projekt-inge-modulreihe-kommunikation-als-schluessel-zur-teilhabe/
LOCATION:vhs Lilienthal\, Klosterstr.25\, Lilienthal\, 28865\, Deutschland
CATEGORIES:InGe
ORGANIZER;CN="Projekt InGe":MAILTO:projekt.inge@lilienthal.de
END:VEVENT
BEGIN:VEVENT
DTSTART;TZID=Europe/Berlin:20210129T150000
DTEND;TZID=Europe/Berlin:20210129T163000
DTSTAMP:20260425T175227
CREATED:20210107T140905Z
LAST-MODIFIED:20210107T142011Z
UID:753-1611932400-1611937800@www.aboee.de
SUMMARY:Projekt InGe: Online-Reihe: Die Zusammenarbeit mit Eltern und Familien online gestalten
DESCRIPTION:Für pädagogische Fachkräfte in Kita und Schule. Elternabende und Elterngespräche sind ein wichtiger Teil der Arbeit in den Kitas und Schulen. In den letzten Monaten war es schwierig\, diese Angebote durchzuführen. Bis wieder unter den alten Bedingungen Veranstaltungen durchgeführt werden können\, wird sicherlich noch einige Zeit ins Land gehen. Darüber hinaus gibt es viele weitere Gründe\, sich mit der digitalen Zusammenarbeit mit Eltern auseinanderzusetzen. Elternabende und Elterngespräche finden häufig außerhalb der Betreuungszeiten statt. Dies ist für manche Eltern schwierig umzusetzen – sei es\, dass keine Fahrmöglichkeit am Abend oder keine Betreuung für die Kinder zur Verfügung steht. Der zweite und dritte Teil der Veranstaltung finden am 12.2. und 26.2.2021 statt.\nDie Veranstaltung wird über unsere Online-Plattform ecosero durchgeführt. Für die Teilnahme wird ein PC\, Laptop\, Tablet oder Handy mit Kamera und Mikrofon\, eine stabile Internetverbindung\, einen aktuellen Browser (Microsoft Edge\, Google Chrome\, Firefox\, Safari) benötigt. Hier geht es zur Anmeldung
URL:https://www.aboee.de/veranstaltung/projekt-inge-online-reihe-die-zusammenarbeit-mit-eltern-und-familien-online-gestalten/
CATEGORIES:InGe
ORGANIZER;CN="Projekt InGe":MAILTO:projekt.inge@lilienthal.de
END:VEVENT
END:VCALENDAR