BEGIN:VCALENDAR
VERSION:2.0
PRODID:-//ABÖE e.V. - ECPv6.15.11//NONSGML v1.0//EN
CALSCALE:GREGORIAN
METHOD:PUBLISH
X-ORIGINAL-URL:https://www.aboee.de
X-WR-CALDESC:Veranstaltungen für ABÖE e.V.
REFRESH-INTERVAL;VALUE=DURATION:PT1H
X-Robots-Tag:noindex
X-PUBLISHED-TTL:PT1H
BEGIN:VTIMEZONE
TZID:Europe/Berlin
BEGIN:DAYLIGHT
TZOFFSETFROM:+0100
TZOFFSETTO:+0200
TZNAME:CEST
DTSTART:20220327T010000
END:DAYLIGHT
BEGIN:STANDARD
TZOFFSETFROM:+0200
TZOFFSETTO:+0100
TZNAME:CET
DTSTART:20221030T010000
END:STANDARD
BEGIN:DAYLIGHT
TZOFFSETFROM:+0100
TZOFFSETTO:+0200
TZNAME:CEST
DTSTART:20230326T010000
END:DAYLIGHT
BEGIN:STANDARD
TZOFFSETFROM:+0200
TZOFFSETTO:+0100
TZNAME:CET
DTSTART:20231029T010000
END:STANDARD
BEGIN:DAYLIGHT
TZOFFSETFROM:+0100
TZOFFSETTO:+0200
TZNAME:CEST
DTSTART:20240331T010000
END:DAYLIGHT
BEGIN:STANDARD
TZOFFSETFROM:+0200
TZOFFSETTO:+0100
TZNAME:CET
DTSTART:20241027T010000
END:STANDARD
END:VTIMEZONE
BEGIN:VEVENT
DTSTART;TZID=Europe/Berlin:20230118T150000
DTEND;TZID=Europe/Berlin:20230118T190000
DTSTAMP:20260424T062313
CREATED:20221213T125555Z
LAST-MODIFIED:20221213T131345Z
UID:1291-1674054000-1674068400@www.aboee.de
SUMMARY:Projekt InGe: Workshop "Kindliche Sexualität und Kinderrechte"
DESCRIPTION:Die kindliche sexuelle Entwicklung ist Teil der Identitätsentwicklung von Kindern. Kinder brauchen Erfahrungsräume ihrer kindlichen sexuellen Aktivitäten zum Forschen und Experimentieren\, zum spontanen Ausdruck und zum Erleben von Grenzerfahrungen\, die fachlich pädagogisch begleitet werden. Pädagogische Fachkräfte sind also gefordert sich sowohl mit dem Schutz der Kinder auseinanderzusetzen\, als auch im Sinne der Kinderrechte die Entwicklung von sexueller Selbstbestimmung im Kindesalter zu unterstützen. Der Workshop bietet erste Ansatzpunkte\, sich dem Thema zu nähern. Eine Anmeldung ist notwendig; bitte melden Sie sich bis zum 06.01.2023 mit folgendendem Dokument an:  InGe V Anmeldung Workshop / Lehrgang \n 
URL:https://www.aboee.de/veranstaltung/projekt-inge-kindliche-sexualitaet-und-kinderrechte/
LOCATION:vhs Lilienthal\, Klosterstr.25\, Lilienthal\, 28865\, Deutschland
CATEGORIES:InGe
END:VEVENT
END:VCALENDAR