BEGIN:VCALENDAR
VERSION:2.0
PRODID:-//ABÖE e.V. - ECPv6.15.11//NONSGML v1.0//EN
CALSCALE:GREGORIAN
METHOD:PUBLISH
X-WR-CALNAME:ABÖE e.V.
X-ORIGINAL-URL:https://www.aboee.de
X-WR-CALDESC:Veranstaltungen für ABÖE e.V.
REFRESH-INTERVAL;VALUE=DURATION:PT1H
X-Robots-Tag:noindex
X-PUBLISHED-TTL:PT1H
BEGIN:VTIMEZONE
TZID:Europe/Berlin
BEGIN:DAYLIGHT
TZOFFSETFROM:+0100
TZOFFSETTO:+0200
TZNAME:CEST
DTSTART:20220327T010000
END:DAYLIGHT
BEGIN:STANDARD
TZOFFSETFROM:+0200
TZOFFSETTO:+0100
TZNAME:CET
DTSTART:20221030T010000
END:STANDARD
BEGIN:DAYLIGHT
TZOFFSETFROM:+0100
TZOFFSETTO:+0200
TZNAME:CEST
DTSTART:20230326T010000
END:DAYLIGHT
BEGIN:STANDARD
TZOFFSETFROM:+0200
TZOFFSETTO:+0100
TZNAME:CET
DTSTART:20231029T010000
END:STANDARD
BEGIN:DAYLIGHT
TZOFFSETFROM:+0100
TZOFFSETTO:+0200
TZNAME:CEST
DTSTART:20240331T010000
END:DAYLIGHT
BEGIN:STANDARD
TZOFFSETFROM:+0200
TZOFFSETTO:+0100
TZNAME:CET
DTSTART:20241027T010000
END:STANDARD
END:VTIMEZONE
BEGIN:VEVENT
DTSTART;TZID=Europe/Berlin:20231009T143000
DTEND;TZID=Europe/Berlin:20231009T170000
DTSTAMP:20260420T150817
CREATED:20230911T153701Z
LAST-MODIFIED:20230911T154556Z
UID:1567-1696861800-1696870800@www.aboee.de
SUMMARY:Projekt best\, Workshop: Grundlagen Inklusion im Kitaalltag\, 9. Oktober 2023
DESCRIPTION:Dieser Workshop vermittelt die Grundlagen zu Inklusion und was sich dahinter verbirgt\, was das mit der eigenen Person und auch mit der Arbeit im Kitaalltag zu tun hat. \nZiel: Verständnis und Wissen\, was hinter dem Begriff „Inklusion“ steckt\, welche Rolle man selbst dabei innehat und inwiefern es eine Verbindung und einen Einfluss auf die pädagogische Arbeit in der Kita gibt. \nAnmeldung unter projekt.best@aboee.de \nAnmeldeschluss ist der 27.09.2023
URL:https://www.aboee.de/veranstaltung/projekt-best-grundlagen-inklusion-im-kitaalltag-9-oktober-2023/
LOCATION:Rathaus Schwanewede\, Damm 4\, Schwanewede\, Niedersachsen\, 28790
CATEGORIES:best
END:VEVENT
END:VCALENDAR