BEGIN:VCALENDAR
VERSION:2.0
PRODID:-//ABÖE e.V. - ECPv6.15.11//NONSGML v1.0//EN
CALSCALE:GREGORIAN
METHOD:PUBLISH
X-ORIGINAL-URL:https://www.aboee.de
X-WR-CALDESC:Veranstaltungen für ABÖE e.V.
REFRESH-INTERVAL;VALUE=DURATION:PT1H
X-Robots-Tag:noindex
X-PUBLISHED-TTL:PT1H
BEGIN:VTIMEZONE
TZID:Europe/Berlin
BEGIN:DAYLIGHT
TZOFFSETFROM:+0100
TZOFFSETTO:+0200
TZNAME:CEST
DTSTART:20200329T010000
END:DAYLIGHT
BEGIN:STANDARD
TZOFFSETFROM:+0200
TZOFFSETTO:+0100
TZNAME:CET
DTSTART:20201025T010000
END:STANDARD
BEGIN:DAYLIGHT
TZOFFSETFROM:+0100
TZOFFSETTO:+0200
TZNAME:CEST
DTSTART:20210328T010000
END:DAYLIGHT
BEGIN:STANDARD
TZOFFSETFROM:+0200
TZOFFSETTO:+0100
TZNAME:CET
DTSTART:20211031T010000
END:STANDARD
BEGIN:DAYLIGHT
TZOFFSETFROM:+0100
TZOFFSETTO:+0200
TZNAME:CEST
DTSTART:20220327T010000
END:DAYLIGHT
BEGIN:STANDARD
TZOFFSETFROM:+0200
TZOFFSETTO:+0100
TZNAME:CET
DTSTART:20221030T010000
END:STANDARD
END:VTIMEZONE
BEGIN:VEVENT
DTSTART;TZID=Europe/Berlin:20211108T150000
DTEND;TZID=Europe/Berlin:20211108T170000
DTSTAMP:20260422T061405
CREATED:20210803T110434Z
LAST-MODIFIED:20210803T110434Z
UID:1085-1636383600-1636390800@www.aboee.de
SUMMARY:Projekt InBi: Montagshäppchen: Gewaltfreie Kommunikation (kennen)lernen
DESCRIPTION:Nadine Beaumart hilft Ihnen durch kurze\, praktische Hinweise die Geschichte und die Idee der „GFK“ zu verstehen. Zusammen mit einigen kurzen Tipps wird so ein erster Schritt zu wertschätzendem Umgang und kreativem Zusammenleben ermöglicht. \nFür die Anmeldung zu dieser Veranstaltung nutzen Sie bitte dieses Formblatt: Anmeldung InBi
URL:https://www.aboee.de/veranstaltung/projekt-inbi-montagshaeppchen-gewaltfreie-kommunikation-kennenlernen/
LOCATION:online-VA über ecosero (browserbasiert)
CATEGORIES:InBi
ORGANIZER;CN="Projekt InBi":MAILTO:projekt.inbi@aboee.de
END:VEVENT
END:VCALENDAR