BEGIN:VCALENDAR
VERSION:2.0
PRODID:-//ABÖE e.V. - ECPv6.15.11//NONSGML v1.0//EN
CALSCALE:GREGORIAN
METHOD:PUBLISH
X-WR-CALNAME:ABÖE e.V.
X-ORIGINAL-URL:https://www.aboee.de
X-WR-CALDESC:Veranstaltungen für ABÖE e.V.
REFRESH-INTERVAL;VALUE=DURATION:PT1H
X-Robots-Tag:noindex
X-PUBLISHED-TTL:PT1H
BEGIN:VTIMEZONE
TZID:Europe/Berlin
BEGIN:DAYLIGHT
TZOFFSETFROM:+0100
TZOFFSETTO:+0200
TZNAME:CEST
DTSTART:20220327T010000
END:DAYLIGHT
BEGIN:STANDARD
TZOFFSETFROM:+0200
TZOFFSETTO:+0100
TZNAME:CET
DTSTART:20221030T010000
END:STANDARD
BEGIN:DAYLIGHT
TZOFFSETFROM:+0100
TZOFFSETTO:+0200
TZNAME:CEST
DTSTART:20230326T010000
END:DAYLIGHT
BEGIN:STANDARD
TZOFFSETFROM:+0200
TZOFFSETTO:+0100
TZNAME:CET
DTSTART:20231029T010000
END:STANDARD
BEGIN:DAYLIGHT
TZOFFSETFROM:+0100
TZOFFSETTO:+0200
TZNAME:CEST
DTSTART:20240331T010000
END:DAYLIGHT
BEGIN:STANDARD
TZOFFSETFROM:+0200
TZOFFSETTO:+0100
TZNAME:CET
DTSTART:20241027T010000
END:STANDARD
END:VTIMEZONE
BEGIN:VEVENT
DTSTART;TZID=Europe/Berlin:20230523T153000
DTEND;TZID=Europe/Berlin:20230523T190000
DTSTAMP:20260420T031030
CREATED:20230118T114031Z
LAST-MODIFIED:20230118T114031Z
UID:1344-1684855800-1684868400@www.aboee.de
SUMMARY:Projekt InGe: Qualifizierungsreihe "Kommunikation als Schlüssel zur Teilhabe"
DESCRIPTION:Von Februar bis Dezember 2023 findet die 9-teilige Qualifizierungsreihe „Kommunikation als Schlüssel zur Teilhabe“ für pädagogische Fachkräfte in Kita und Schule statt. Mit unterschiedlichen Schwerpunkten wird die Kommunikation mit Kindern\, Eltern und im Team unter Begleitung von fachlich versierten Referent*innen praxisnah bearbeitet. Das Spektrum umfasst Grundlagen zu gewaltfreier\, interkultureller\, diversitätsbewusster und visualisierter Kommunikation\, zur dialogischen Haltung und zur Einfachen Sprache. Es sollten möglichst alle Module besucht werden\, die Buchung von einzelnen Teilen des Angebots ist aber ebenfalls möglich. Bitte melden Sie sich mit dem ausgefüllten und unterschriebenen InGe Anmeldebogen per mail unter projekt.inge@lilienthal verbindlich unter Nennung der Module an.\nAlle Module finden von 15.30 Uhr bis 19.00 Uhr in der Alten Schule Falkenberg in Lilienthal statt \nModul 1: Grundlagen der Kommunikation (22.02.2023)\nModul 2 -4: Gewaltfreie Kommunikation (mit Kindern\, mit Eltern\, im Team) (21.03.2023 / 26.04.2023 / 23.05.2023)\nModul 5: Einfache Sprache (22.06.2023)\nModul 6: Interkulturelle Kommunikation (23.08.2023)\nModul 7: Diversitätsbewusste Kommunikation (20.09.2023)\nModul 8: Visualisierte Kommunikation (08.11.2023)\nModul 9: Dialogische Haltung (12.12.2023)
URL:https://www.aboee.de/veranstaltung/projekt-inge-qualifizierungsreihe-kommunikation-als-schluessel-zur-teilhabe-4/
LOCATION:Alte Schule Falkenberg\, Falkenberger Landstraße 67\, 28865 Lilienthal\, 28865\, Deutschland
CATEGORIES:InGe
ORGANIZER;CN="Projekt InGe":MAILTO:projekt.inge@lilienthal.de
END:VEVENT
BEGIN:VEVENT
DTSTART;TZID=Europe/Berlin:20230523T153000
DTEND;TZID=Europe/Berlin:20230523T190000
DTSTAMP:20260420T031030
CREATED:20230320T085106Z
LAST-MODIFIED:20230320T091102Z
UID:1433-1684855800-1684868400@www.aboee.de
SUMMARY:Projekt InBi: Kommunikation als Mittel zur Teilhabe
DESCRIPTION:Modul 1: Grundlagen der Kommunikation \nDie Qualifizierungsreihe „Kommunikation als Mittel zur Teilhabe“ für Fachkräfte in Kita und Schule findet von Mai bis Dezember 2023 statt. Das Thema Kommunikation nimmt einen zunehmenden Raum im Kontext der pädagogischen Arbeit ein. Denn gelingende Kommunikation mit Kindern\, Eltern und im Team sind für die pädagogische Praxis unabdingbar. \nDie angebotene Modulreihe beinhaltet verschiedene Schwerpunkte und wird von mehreren Referent:innen praxisnah begleitet. Dabei wird der Zugang\, das Verständnis sowie der Dialog mit unterschiedlichen Personengruppe geschult. Der Inhalt reicht von Grundlagen\, hin zu gewaltfreier Kommunikation\, von interkultureller\, diverstitätsbewusster und visualisierten Kommunikation zur dialogischen Haltung und zur Einfachen Sprache. Die erlernten Techniken und Inhalte ermöglichen es den Teilnehmenden perspektivisch sicherer im Umgang mit verschiedenen Menschen zu werden. \nEs können unter Umständen auch einzelne Module gebucht werden – Kontaktiert uns diesbezüglich gerne. Personen\, die dengesamten Workshop buchen\, haben jedoch Vorrang. \nFür die Anmeldung zur Veranstaltung nutzen Sie bitte dieses Formblatt: Anmeldung InBi
URL:https://www.aboee.de/veranstaltung/kommunikation-als-mittel-zur-teilhabe/
LOCATION:Geschäftsstelle Lebenshilfe Hemmor\, Am Schulzentrum 8a\, Hemmoor\, 21745\, Deutschland
ORGANIZER;CN="Projekt InBi":MAILTO:projekt.inbi@aboee.de
END:VEVENT
BEGIN:VEVENT
DTSTART;TZID=Europe/Berlin:20230525T150000
DTEND;TZID=Europe/Berlin:20230525T180000
DTSTAMP:20260420T031030
CREATED:20230214T124743Z
LAST-MODIFIED:20230214T130253Z
UID:1382-1685026800-1685037600@www.aboee.de
SUMMARY:Projekt InGe: Qualifizierungsreihe "Medienbildung in der Kita"
DESCRIPTION:Qualifizierungsreihe in 7 Modulen für pädagogische Fachkräfte in der Kita von März bis November 2023. Die Module sollten zusammen besucht werden. Es ist jedoch möglich sich auch für einzelne Module anzumelden. Verbindliche Anmeldung bitte bis zum 1.3.2023 mit dem ausgefüllten und unterschriebenen InGe Anmeldebogen \nDigitale Medien sind wesentliche Bestandteile des täglichen Lebens und spielen in der kindlichen Entwicklung eine immer wichtigere Rolle. Letztlich entscheiden sie mit über den Bildungserfolg der Kinder. Für die pädagogischen Fachkräfte bedeutet es\, die Kinder hierbei kompetent begleiten zu können.\nDie Qualifizierungsreihe „Medienbildung in der Kita“ trägt dazu bei\, pädagogischen Fachkräften entsprechende Kompetenzen zu vermitteln\, um den Kindern das vielfältige Medienangebot näher zu bringen. Es geht es darum sich mit digitalen Medien wie z.B. Computer\, Handy\, Fotokamera vertraut zu machen und die unterschiedlichen Einsatzmöglichkeiten im Kita-Alltag kennenzulernen. \nTablets (IPad) werden zur Verfügung gestellt oder können mitgebracht werden.\nReferent:innen: Bianca Kühn und Olaf Haschke \n\n\n\nDatum\nThema\n\n\nDienstag\, 14. März 2023\nTrickfilm und Trickfoto \nErstellen\, fotografieren und filmen\, Trickfilm mit der APP „Stopmotion Studio“ erstellen (Farbe: petrol – kostenfreie Variante. Wir arbeiten anschließend mit imovie)\n\n\nDienstag\, 25. April 2023\nBee Bots – Programmieren mit Kindern \nDer Bee-Bot ist ein kleiner Roboter. Mithilfe von Tasten kann dieser gesteuert werden. Die Kinder lernen auf spielerische Weise welche Codes sie eingeben müssen\, um ihr Ziel zu erreichen.\n\n\nDonnerstag\, 25. Mai 2023\nKeine Angst vor der Technik \nWas wird wie zusammen gesteckt und geschaltet\, wie kann ich Handy\, Tablet\, Beamer etc schnell miteinander verbinden\, wo werden Dateien sinnvoll abgelegt\n\n\nDienstag\, 27. Juni 2023\nBilderbuchkinos mit der APP Puppet Pals kreieren \nMit der App Puppet Pals können kurze Trickfilme mit verschiedenen Figuren vor unterschiedlichen Hintergründen erstellt werden. Die Geschichten erfinden die Kinder. Dazu können Texte aufgenommen werden. Es wird mit der kostenpflichtigen iPad App Puppet Pals gearbeitet.\n\n\nDienstag\, 29. August 2023\nPortfolio mit dem Book-Creator \nBilder\, Audiodateien\, Filme oder Zeichnungen können einfach frei auf der Seite platziert werden. Bilder und Fotos von Bastelarbeiten der Kinder können auf die Buchseiten gestellt werden.\n\n\nDienstag\, 26. September 2023\nErklärvideos erstellen \nErklär die Welt mit Erklärvideos: wie kann ich etwas jemandem beschreiben und es immer und jederzeit bereithalten. Es wird mit der Kamera-APP gearbeitet\,  selbst gestaltete Texte werden auf Tischen geschoben und dazu gesprochen.\n\n\nDienstag\, 7. November 2023\nGeräusche- Werkstatt \nWelches Geräusch bist du? Wir wollen ein lebendiges Hörspiel erstellen. Geräusche und auch die Musik sind wesentliche Punkte beim Erstellen.\n\n\n\n 
URL:https://www.aboee.de/veranstaltung/projekt-inge-qualifizierungsreihe-medienbildung-in-der-kita-3/
LOCATION:Alte Schule Falkenberg\, Falkenberger Landstraße 67\, 28865 Lilienthal\, 28865\, Deutschland
CATEGORIES:InGe
ORGANIZER;CN="Projekt InGe":MAILTO:projekt.inge@lilienthal.de
END:VEVENT
END:VCALENDAR