BEGIN:VCALENDAR
VERSION:2.0
PRODID:-//ABÖE e.V. - ECPv6.15.11//NONSGML v1.0//EN
CALSCALE:GREGORIAN
METHOD:PUBLISH
X-ORIGINAL-URL:https://www.aboee.de
X-WR-CALDESC:Veranstaltungen für ABÖE e.V.
REFRESH-INTERVAL;VALUE=DURATION:PT1H
X-Robots-Tag:noindex
X-PUBLISHED-TTL:PT1H
BEGIN:VTIMEZONE
TZID:Europe/Berlin
BEGIN:DAYLIGHT
TZOFFSETFROM:+0100
TZOFFSETTO:+0200
TZNAME:CEST
DTSTART:20200329T010000
END:DAYLIGHT
BEGIN:STANDARD
TZOFFSETFROM:+0200
TZOFFSETTO:+0100
TZNAME:CET
DTSTART:20201025T010000
END:STANDARD
BEGIN:DAYLIGHT
TZOFFSETFROM:+0100
TZOFFSETTO:+0200
TZNAME:CEST
DTSTART:20210328T010000
END:DAYLIGHT
BEGIN:STANDARD
TZOFFSETFROM:+0200
TZOFFSETTO:+0100
TZNAME:CET
DTSTART:20211031T010000
END:STANDARD
BEGIN:DAYLIGHT
TZOFFSETFROM:+0100
TZOFFSETTO:+0200
TZNAME:CEST
DTSTART:20220327T010000
END:DAYLIGHT
BEGIN:STANDARD
TZOFFSETFROM:+0200
TZOFFSETTO:+0100
TZNAME:CET
DTSTART:20221030T010000
END:STANDARD
END:VTIMEZONE
BEGIN:VEVENT
DTSTART;TZID=Europe/Berlin:20210602T160000
DTEND;TZID=Europe/Berlin:20210602T180000
DTSTAMP:20260423T131630
CREATED:20210413T115456Z
LAST-MODIFIED:20210511T121148Z
UID:959-1622649600-1622656800@www.aboee.de
SUMMARY:Projekt LINES VI: „Einführung in die Visualisierung von Figuren und Symbolen für die pädagogische Praxis in Kita und Schule"
DESCRIPTION:Dieser Online Workshop gibt Ihnen eine Einführung in das Thema Flipchartgestaltung. Sie bekommen Material- und Farbtipps sowie einen Überblick über die verschiedenen Flipchartmarker. Tipps für ein lesbares Schriftbild gibt es ebenfalls. Eine kleine Einführung in das Zeichnen von einfachen Symbolen rundet die Fortbildung ab. Für den Workshop werden einfaches Kopierpapier und bunte und schwarze Stifte benötigt. Wer hat\, hält einen Flipchartmarker mit Keilspitze bereit. \nEine Anmeldung ist erforderlich: Bitte senden Sie Ihre Anmeldung für den Workshop LINES unterschrieben  und eingescannt an projekt.lines@aboee.de. Der Teilnahmelink wird nach Zusendung des Anmeldeformulars (s.u download Anmeldung LINES) zugesendet.
URL:https://www.aboee.de/veranstaltung/projekt-lines-einfuehrung-in-die-visualisierung-von-figuren-und-symbolen-fuer-die-paedagogische-praxis-in-kita-und-schule-2/
LOCATION:online-VA über ecosero (browserbasiert)
CATEGORIES:LINES
END:VEVENT
END:VCALENDAR