BEGIN:VCALENDAR
VERSION:2.0
PRODID:-//ABÖE e.V. - ECPv6.15.11//NONSGML v1.0//EN
CALSCALE:GREGORIAN
METHOD:PUBLISH
X-WR-CALNAME:ABÖE e.V.
X-ORIGINAL-URL:https://www.aboee.de
X-WR-CALDESC:Veranstaltungen für ABÖE e.V.
REFRESH-INTERVAL;VALUE=DURATION:PT1H
X-Robots-Tag:noindex
X-PUBLISHED-TTL:PT1H
BEGIN:VTIMEZONE
TZID:Europe/Berlin
BEGIN:DAYLIGHT
TZOFFSETFROM:+0100
TZOFFSETTO:+0200
TZNAME:CEST
DTSTART:20200329T010000
END:DAYLIGHT
BEGIN:STANDARD
TZOFFSETFROM:+0200
TZOFFSETTO:+0100
TZNAME:CET
DTSTART:20201025T010000
END:STANDARD
BEGIN:DAYLIGHT
TZOFFSETFROM:+0100
TZOFFSETTO:+0200
TZNAME:CEST
DTSTART:20210328T010000
END:DAYLIGHT
BEGIN:STANDARD
TZOFFSETFROM:+0200
TZOFFSETTO:+0100
TZNAME:CET
DTSTART:20211031T010000
END:STANDARD
BEGIN:DAYLIGHT
TZOFFSETFROM:+0100
TZOFFSETTO:+0200
TZNAME:CEST
DTSTART:20220327T010000
END:DAYLIGHT
BEGIN:STANDARD
TZOFFSETFROM:+0200
TZOFFSETTO:+0100
TZNAME:CET
DTSTART:20221030T010000
END:STANDARD
END:VTIMEZONE
BEGIN:VEVENT
DTSTART;TZID=Europe/Berlin:20210503T150000
DTEND;TZID=Europe/Berlin:20210503T163000
DTSTAMP:20260423T145933
CREATED:20210427T103550Z
LAST-MODIFIED:20210427T103708Z
UID:979-1620054000-1620059400@www.aboee.de
SUMMARY:Projekt InBi: Montagshäppchen "Flipchart - lesbar schreiben"
DESCRIPTION:Natalie Peter zeigt in einer kurzen Sequenz\, wie ein Flipchart schön und leserlich gestaltet werden kann. Auch digital kann die Visualisierung eines Flipcharts gelernt und genutzt werden. Für die Anmeldung zu dieser Veranstaltung nutzen Sie bitte dieses Formblatt: Anmeldung InBi
URL:https://www.aboee.de/veranstaltung/projekt-inbi-montagshaeppchen-flipchart-lesbar-schreiben/
LOCATION:online-VA über ecosero (browserbasiert)
CATEGORIES:InBi
ORGANIZER;CN="Projekt InBi":MAILTO:projekt.inbi@aboee.de
END:VEVENT
BEGIN:VEVENT
DTSTART;TZID=Europe/Berlin:20210505T160000
DTEND;TZID=Europe/Berlin:20210505T180000
DTSTAMP:20260423T145933
CREATED:20210218T105756Z
LAST-MODIFIED:20210413T195129Z
UID:883-1620230400-1620237600@www.aboee.de
SUMMARY:Projekt LINES VI: „Vertiefung und Aufbau Flipchartgestaltung für die pädagogische Arbeit mit Kindern"
DESCRIPTION:Eine Anmeldung ist erforderlich\, bitte die Anmeldung für den Workshop LINES unterschrieben einscannen und an projekt.lines@aboee.de senden. Der Teilnahmelink wird nach Zusendung des Anmeldeformulars (s.u. download Anmeldung LINES) zugesendet.
URL:https://www.aboee.de/veranstaltung/projekt-lines-aufbaukurs-flipchartgestaltung-fuer-die-paedagogische-arbeit-mit-kindern/
LOCATION:online-VA über ecosero (browserbasiert)
CATEGORIES:LINES
END:VEVENT
BEGIN:VEVENT
DTSTART;TZID=Europe/Berlin:20210531T150000
DTEND;TZID=Europe/Berlin:20210531T163000
DTSTAMP:20260423T145933
CREATED:20210427T104734Z
LAST-MODIFIED:20210427T104734Z
UID:985-1622473200-1622478600@www.aboee.de
SUMMARY:Projekt InBi: Montagshäppchen "Flipchart - schnell schreiben"
DESCRIPTION:Natalie Peter vermittelt Ihnen Handlungsanweisungen\, wie Sie (unter anderem bei arbeiten mit dem Flipchart) schnell schreiben lernen. Diese Grundlagen können für Team- oder Gruppenarbeiten hilfreich sein\, aber auch bei der Arbeit Kindern. Für die Anmeldung zu dieser Veranstaltung nutzen Sie bitte dieses Formblatt: Anmeldung InBi
URL:https://www.aboee.de/veranstaltung/projekt-inbi-montagshaeppchen-flipchart-schnell-schreiben/
LOCATION:online-VA über ecosero (browserbasiert)
CATEGORIES:InBi
ORGANIZER;CN="Projekt InBi":MAILTO:projekt.inbi@aboee.de
END:VEVENT
END:VCALENDAR