BEGIN:VCALENDAR
VERSION:2.0
PRODID:-//ABÖE e.V. - ECPv6.15.11//NONSGML v1.0//EN
CALSCALE:GREGORIAN
METHOD:PUBLISH
X-WR-CALNAME:ABÖE e.V.
X-ORIGINAL-URL:https://www.aboee.de
X-WR-CALDESC:Veranstaltungen für ABÖE e.V.
REFRESH-INTERVAL;VALUE=DURATION:PT1H
X-Robots-Tag:noindex
X-PUBLISHED-TTL:PT1H
BEGIN:VTIMEZONE
TZID:Europe/Berlin
BEGIN:DAYLIGHT
TZOFFSETFROM:+0100
TZOFFSETTO:+0200
TZNAME:CEST
DTSTART:20230326T010000
END:DAYLIGHT
BEGIN:STANDARD
TZOFFSETFROM:+0200
TZOFFSETTO:+0100
TZNAME:CET
DTSTART:20231029T010000
END:STANDARD
BEGIN:DAYLIGHT
TZOFFSETFROM:+0100
TZOFFSETTO:+0200
TZNAME:CEST
DTSTART:20240331T010000
END:DAYLIGHT
BEGIN:STANDARD
TZOFFSETFROM:+0200
TZOFFSETTO:+0100
TZNAME:CET
DTSTART:20241027T010000
END:STANDARD
BEGIN:DAYLIGHT
TZOFFSETFROM:+0100
TZOFFSETTO:+0200
TZNAME:CEST
DTSTART:20250330T010000
END:DAYLIGHT
BEGIN:STANDARD
TZOFFSETFROM:+0200
TZOFFSETTO:+0100
TZNAME:CET
DTSTART:20251026T010000
END:STANDARD
END:VTIMEZONE
BEGIN:VEVENT
DTSTART;TZID=Europe/Berlin:20240304T150000
DTEND;TZID=Europe/Berlin:20240304T173000
DTSTAMP:20260423T001131
CREATED:20240122T103747Z
LAST-MODIFIED:20240122T103747Z
UID:1641-1709564400-1709573400@www.aboee.de
SUMMARY:Projekt InBi: Montagshäppchen (zweiteilig): Kinderschutz und digitale Medien (Tag 1)
DESCRIPTION:Digitale Medien gehören zum Lebensalltag von Kindern und können vielfältig und nützlich eingesetzt werden\, bergen aber auch einige Risiken. Sicherheitseinstellungen sind nur eine Säule des Kinderschutzes im digitalen Raum. In der Weiterbildung werden weitere Schutzmaßnahmen erarbeitet. Dabei steht die Kommunikation von Kindern und Erwachsenen sowie Fachkräften und Familien im Vordergrund: Im Dialog über digitale Medien und die eigenen Erfahrungen mit ihnen können Kinder sowohl geschützt als auch gestärkt werden. \nRomy Schulze gibt in der Fortbildung Orientierungshilfen für den digitalen Raum und zeigt individuelle Maßnahmen auf\, um einen Rahmen für Medienerlebnisse zu schaffen. Immer im Fokus: der Dialog mit den Kindern. \n  \nFür die Anmeldung zur Veranstaltung nutzen Sie bitte dieses Formblatt: Anmeldung InBi
URL:https://www.aboee.de/veranstaltung/projekt-inbi-montagshaeppchen-zweiteilig-kinderschutz-und-digitale-medien-tag-1/
LOCATION:online-VA über ecosero (browserbasiert)
CATEGORIES:InBi
ORGANIZER;CN="Projekt InBi":MAILTO:projekt.inbi@aboee.de
END:VEVENT
BEGIN:VEVENT
DTSTART;TZID=Europe/Berlin:20240311T150000
DTEND;TZID=Europe/Berlin:20240311T173000
DTSTAMP:20260423T001131
CREATED:20240122T104213Z
LAST-MODIFIED:20240122T104213Z
UID:1643-1710169200-1710178200@www.aboee.de
SUMMARY:Projekt InBi: Montagshäppchen (zweiteilig): Kinderschutz und digitale Medien (Tag 2)
DESCRIPTION:Digitale Medien gehören zum Lebensalltag von Kindern und können vielfältig und nützlich eingesetzt werden\, bergen aber auch einige Risiken. Sicherheitseinstellungen sind nur eine Säule des Kinderschutzes im digitalen Raum. In der Weiterbildung werden weitere Schutzmaßnahmen erarbeitet. Dabei steht die Kommunikation von Kindern und Erwachsenen sowie Fachkräften und Familien im Vordergrund: Im Dialog über digitale Medien und die eigenen Erfahrungen mit ihnen können Kinder sowohl geschützt als auch gestärkt werden. \nRomy Schulze gibt in der Fortbildung Orientierungshilfen für den digitalen Raum und zeigt individuelle Maßnahmen auf\, um einen Rahmen für Medienerlebnisse zu schaffen. Immer im Fokus: der Dialog mit den Kindern. \n  \nFür die Anmeldung zur Veranstaltung nutzen Sie bitte dieses Formblatt: Anmeldung InBi
URL:https://www.aboee.de/veranstaltung/projekt-inbi-montagshaeppchen-zweiteilig-kinderschutz-und-digitale-medien-tag-2/
LOCATION:online-VA über ecosero (browserbasiert)
CATEGORIES:InBi
ORGANIZER;CN="Projekt InBi":MAILTO:projekt.inbi@aboee.de
END:VEVENT
END:VCALENDAR