BEGIN:VCALENDAR
VERSION:2.0
PRODID:-//ABÖE e.V. - ECPv6.15.11//NONSGML v1.0//EN
CALSCALE:GREGORIAN
METHOD:PUBLISH
X-ORIGINAL-URL:https://www.aboee.de
X-WR-CALDESC:Veranstaltungen für ABÖE e.V.
REFRESH-INTERVAL;VALUE=DURATION:PT1H
X-Robots-Tag:noindex
X-PUBLISHED-TTL:PT1H
BEGIN:VTIMEZONE
TZID:Europe/Berlin
BEGIN:DAYLIGHT
TZOFFSETFROM:+0100
TZOFFSETTO:+0200
TZNAME:CEST
DTSTART:20230326T010000
END:DAYLIGHT
BEGIN:STANDARD
TZOFFSETFROM:+0200
TZOFFSETTO:+0100
TZNAME:CET
DTSTART:20231029T010000
END:STANDARD
BEGIN:DAYLIGHT
TZOFFSETFROM:+0100
TZOFFSETTO:+0200
TZNAME:CEST
DTSTART:20240331T010000
END:DAYLIGHT
BEGIN:STANDARD
TZOFFSETFROM:+0200
TZOFFSETTO:+0100
TZNAME:CET
DTSTART:20241027T010000
END:STANDARD
BEGIN:DAYLIGHT
TZOFFSETFROM:+0100
TZOFFSETTO:+0200
TZNAME:CEST
DTSTART:20250330T010000
END:DAYLIGHT
BEGIN:STANDARD
TZOFFSETFROM:+0200
TZOFFSETTO:+0100
TZNAME:CET
DTSTART:20251026T010000
END:STANDARD
END:VTIMEZONE
BEGIN:VEVENT
DTSTART;TZID=Europe/Berlin:20240822T153000
DTEND;TZID=Europe/Berlin:20240822T183000
DTSTAMP:20260420T225441
CREATED:20240625T103109Z
LAST-MODIFIED:20240625T103109Z
UID:1702-1724340600-1724351400@www.aboee.de
SUMMARY:Projekt InGe: Fachveranstaltung "Demokratie von klein auf mitgestalten"
DESCRIPTION:Es ist paradoxerweise möglich\, in einer Demokratie aufzuwachsen\, ohne in sie hineinzuwachsen. Ob sich die Kinder\, die in unserer Obhut aufwachsen\, aktiv mit Verantwortungsbewusstsein und Engagement eines Tages für die Gesellschaft einsetzen werden\, ist kein Zufall. Die Zukunft entscheidet sich heute – jeden Tag. Unser Umgang mit der jungen Generation legt das Fundament für die Gesellschaft von morgen. Und obwohl dieses Fundament so bedeutungsvoll ist\, sind es die kleinen alltäglichen Dinge und unsere sich darin spiegelnde Haltung\, die es maßgeblich bilden. Wie wir unseren Einfluss nutzen können und es bereits auch tun\, wird dieser Impulsvortrag unterstreichen. Er regt zum Nachdenken und zum gemeinsamen Dialog an. Der anschließende Workshop-Teil gibt hierfür Raum\, Gutes festzuhalten und neue Gedanken und Ideen miteinander zu entwickeln. Eine Anmeldung ist erforderlich.
URL:https://www.aboee.de/veranstaltung/projekt-inge-fachveranstaltung-demokratie-von-klein-auf-mitgestalten/
LOCATION:vhs Lilienthal\, Klosterstr.25\, Lilienthal\, 28865\, Deutschland
CATEGORIES:InGe
ORGANIZER;CN="Projekt InGe":MAILTO:projekt.inge@lilienthal.de
END:VEVENT
END:VCALENDAR