BEGIN:VCALENDAR
VERSION:2.0
PRODID:-//ABÖE e.V. - ECPv6.15.11//NONSGML v1.0//EN
CALSCALE:GREGORIAN
METHOD:PUBLISH
X-ORIGINAL-URL:https://www.aboee.de
X-WR-CALDESC:Veranstaltungen für ABÖE e.V.
REFRESH-INTERVAL;VALUE=DURATION:PT1H
X-Robots-Tag:noindex
X-PUBLISHED-TTL:PT1H
BEGIN:VTIMEZONE
TZID:Europe/Berlin
BEGIN:DAYLIGHT
TZOFFSETFROM:+0100
TZOFFSETTO:+0200
TZNAME:CEST
DTSTART:20200329T010000
END:DAYLIGHT
BEGIN:STANDARD
TZOFFSETFROM:+0200
TZOFFSETTO:+0100
TZNAME:CET
DTSTART:20201025T010000
END:STANDARD
BEGIN:DAYLIGHT
TZOFFSETFROM:+0100
TZOFFSETTO:+0200
TZNAME:CEST
DTSTART:20210328T010000
END:DAYLIGHT
BEGIN:STANDARD
TZOFFSETFROM:+0200
TZOFFSETTO:+0100
TZNAME:CET
DTSTART:20211031T010000
END:STANDARD
BEGIN:DAYLIGHT
TZOFFSETFROM:+0100
TZOFFSETTO:+0200
TZNAME:CEST
DTSTART:20220327T010000
END:DAYLIGHT
BEGIN:STANDARD
TZOFFSETFROM:+0200
TZOFFSETTO:+0100
TZNAME:CET
DTSTART:20221030T010000
END:STANDARD
END:VTIMEZONE
BEGIN:VEVENT
DTSTART;TZID=Europe/Berlin:20210929T090000
DTEND;TZID=Europe/Berlin:20210929T160000
DTSTAMP:20260425T033958
CREATED:20210803T110950Z
LAST-MODIFIED:20210803T110950Z
UID:1087-1632906000-1632931200@www.aboee.de
SUMMARY:Projekt InBi: Präsenzworkshop: Resilienz und Stressbewältigung im pädagogischen Kita-Alltag
DESCRIPTION:Wer kennt diesen Satz nicht!? In der heutigen Zeit\, bei permanent steigenden Anforderungen im beruflichen und alltäglichen Umfeld\, ist es immer wichtiger\, sich ein persönliches Stresspräventions- und Bewältigungsprogramm aufzubauen. Dieses Seminar kann helfen\, den täglichen Herausforderungen mit Gelassenheit zu begegnen und die Kita-Belastungen günstig zu bewältigen. \nZiel des Tages ist es\, neben Entspannung und Problemlösung auch freundliche Abgrenzungsfähigkeit zu erlernen. \nBitte eine Matte und eine Decke mitbringen! \nFür die Anmeldung zu dieser Veranstaltung nutzen Sie bitte dieses Formblatt: Anmeldung InBi
URL:https://www.aboee.de/veranstaltung/projekt-inbi-praesenzworkshop-resilienz-und-stressbewaeltigung-im-paedagogischen-kita-alltag/
LOCATION:Gästezentrum Wremen
ORGANIZER;CN="Projekt InBi":MAILTO:projekt.inbi@aboee.de
END:VEVENT
END:VCALENDAR